BEGIN:VCALENDAR
VERSION:2.0
PRODID:-//Hrad Devín - ECPv6.15.18//NONSGML v1.0//EN
CALSCALE:GREGORIAN
METHOD:PUBLISH
X-WR-CALNAME:Hrad Devín
X-ORIGINAL-URL:https://hraddevin.mmb.sk
X-WR-CALDESC:Udalosti pre Hrad Devín
REFRESH-INTERVAL;VALUE=DURATION:PT1H
X-Robots-Tag:noindex
X-PUBLISHED-TTL:PT1H
BEGIN:VTIMEZONE
TZID:Europe/Bratislava
BEGIN:DAYLIGHT
TZOFFSETFROM:+0100
TZOFFSETTO:+0200
TZNAME:CEST
DTSTART:20230326T010000
END:DAYLIGHT
BEGIN:STANDARD
TZOFFSETFROM:+0200
TZOFFSETTO:+0100
TZNAME:CET
DTSTART:20231029T010000
END:STANDARD
BEGIN:DAYLIGHT
TZOFFSETFROM:+0100
TZOFFSETTO:+0200
TZNAME:CEST
DTSTART:20240331T010000
END:DAYLIGHT
BEGIN:STANDARD
TZOFFSETFROM:+0200
TZOFFSETTO:+0100
TZNAME:CET
DTSTART:20241027T010000
END:STANDARD
BEGIN:DAYLIGHT
TZOFFSETFROM:+0100
TZOFFSETTO:+0200
TZNAME:CEST
DTSTART:20250330T010000
END:DAYLIGHT
BEGIN:STANDARD
TZOFFSETFROM:+0200
TZOFFSETTO:+0100
TZNAME:CET
DTSTART:20251026T010000
END:STANDARD
END:VTIMEZONE
BEGIN:VEVENT
DTSTART;TZID=Europe/Bratislava:20240330T090000
DTEND;TZID=Europe/Bratislava:20240330T180000
DTSTAMP:20260426T041027
CREATED:20240321T173114Z
LAST-MODIFIED:20240325T091319Z
UID:5993-1711789200-1711821600@hraddevin.mmb.sk
SUMMARY:JARmok na Devíne
DESCRIPTION:Príďte s nami privítať jar a otvoriť novú sezónu na hrade Devín. Po zime sa sem opäť vrátili kozy a ovečky\, za ktorými sa vyberieme v rámci komentovanej prechádzky. Počas nej sa dozviete nielen o pastve na Devíne. Čaká na vás bohatý rodinný program vrátane obľúbeného hľadania veľkonočných vajíčok a mnoho ďalších možností\, ako príjemne stráviť jednu z prvých jarných sobôt v areáli hradu. Nebudú chýbať ani ukážky remesiel. Vezmite rodinu\, priateľov a blízkych a príďte sa zabaviť\, spoznávať tradície a objavovať zákutia hradu Devín.  \nVstup na aktivitu „Hľadanie vajíčok v areáli hradu Devín“ v čase medzi 9.00 – 10.00 je zdarma.\nVstupné na ostatné aktivity v rámci celodenného programu: 4\,00 € / zľavnené 2\,00 €  \n Vstupenky v predaji v pokladnici Hradu Devín. 
URL:https://hraddevin.mmb.sk/podujatie/jarmok-na-devine/
LOCATION:Hrad Devín\, Muránska 10\, Bratislava\, Slovakia (Slovak Republic)
CATEGORIES:zážitkové podujatie
ATTACH;FMTTYPE=image/jpeg:https://hraddevin.mmb.sk/wp-content/uploads/2024/03/JARmok_1.jpg
ORGANIZER;CN="M%C3%BAzeum mesta Bratislavy":MAILTO:hrad.devin@mmb.sk
END:VEVENT
BEGIN:VEVENT
DTSTART;TZID=Europe/Bratislava:20240330T100000
DTEND;TZID=Europe/Bratislava:20240330T113000
DTSTAMP:20260426T041027
CREATED:20240321T174636Z
LAST-MODIFIED:20240325T091256Z
UID:5998-1711792800-1711798200@hraddevin.mmb.sk
SUMMARY:SPOZNAJ HRAD DEVÍN // rodinný program
DESCRIPTION:Spoznajte počas JARmoku na Devíne dlhoročnú históriu hradu Devín s našou novou interaktívnou mapou! Pozornému oku neujdú ani najmenšie detaily. Samotný hrad vznikol v 13. storočí\, čo tu ale stálo pred ním? Kto na tomto mieste býval a kto sa oň v minulosti staral? Nájdi všetky body na mape v areáli hradu podľa piktogramov a stať sa expertom na minulosť. \nProgram vhodný pre rodiny s deťmi vo veku 6 – 12 rokov prebehne v časoch:\n10.00 – 11:30\n12:15 – 16.00 \nVstupné: 4\,00 € / zľavnené 2\,00 €\nVstupenky v predaji v pokladnici Hradu Devín.  \nInteraktívna mapa pre rodiny s deťmi vznikla v rámci cezhraničného projektu Culture Across – Kultúrne mosty cez rieku Morava\, spolufinancovaného z programu Interreg V-A Slovakia-Austria.
URL:https://hraddevin.mmb.sk/podujatie/spoznaj-hrad-devin-rodinny-program/
LOCATION:Hrad Devín\, Muránska 10\, Bratislava\, Slovakia (Slovak Republic)
CATEGORIES:rodinný program
ATTACH;FMTTYPE=image/jpeg:https://hraddevin.mmb.sk/wp-content/uploads/2024/01/2401_1_Za-hradbami-Devina-III_Komentovana-prechadzka_1-07.jpg
ORGANIZER;CN="M%C3%BAzeum mesta Bratislavy":MAILTO:hrad.devin@mmb.sk
END:VEVENT
BEGIN:VEVENT
DTSTART;TZID=Europe/Bratislava:20240330T121500
DTEND;TZID=Europe/Bratislava:20240330T160000
DTSTAMP:20260426T041027
CREATED:20240321T180259Z
LAST-MODIFIED:20240325T091401Z
UID:6004-1711800900-1711814400@hraddevin.mmb.sk
SUMMARY:SPOZNAJ HRAD DEVÍN // rodinný program
DESCRIPTION:Spoznajte počas JARmoku na Devíne dlhoročnú históriu hradu Devín s našou novou interaktívnou mapou! Pozornému oku neujdú ani najmenšie detaily. Samotný hrad vznikol v 13. storočí\, čo tu ale stálo pred ním? Kto na tomto mieste býval a kto sa oň v minulosti staral? Nájdi všetky body na mape v areáli hradu podľa piktogramov a stať sa expertom na minulosť. \nProgram vhodný pre rodiny s deťmi vo veku 6 – 12 rokov prebehne v časoch:\n10.00 – 11:30\n12:15 – 16.00 \nVstupné: 4\,00 € / zľavnené 2\,00 €\nVstupenky v predaji v pokladnici Hradu Devín.  \nInteraktívna mapa pre rodiny s deťmi vznikla v rámci cezhraničného projektu Culture Across – Kultúrne mosty cez rieku Morava\, spolufinancovaného z programu Interreg V-A Slovakia-Austria.
URL:https://hraddevin.mmb.sk/podujatie/spoznaj-hrad-devin-rodinny-program-2/
ATTACH;FMTTYPE=image/jpeg:https://hraddevin.mmb.sk/wp-content/uploads/2023/10/Stretnime-sa-na-hrade_foto-MMB.jpg
END:VEVENT
BEGIN:VEVENT
DTSTART;TZID=Europe/Bratislava:20240330T140000
DTEND;TZID=Europe/Bratislava:20240330T151500
DTSTAMP:20260426T041027
CREATED:20240321T175512Z
LAST-MODIFIED:20240325T091229Z
UID:6002-1711807200-1711811700@hraddevin.mmb.sk
SUMMARY:PASTVA NA DEVÍNE               
DESCRIPTION:Počas JARmoku na Devíne sa v rámci komentovanej prechádzky bližšie pozrieme na pastvu kôz a oviec na hrade Devín. Je len novinkou posledných rokov\, alebo boli zvieratá odnepamäti nerozlučne spojené s našou históriou? V okolí osád\, ako aj v areáloch hradov a na hradných kopcoch žili kozy\, ovce\, kravy a kone spolu s ľuďmi už pred stovkami a tisíckami rokov. Okrem toho\, že boli zdrojom mlieka\, mäsa\, kože a vlny\, pomáhali aj s udržiavaním čistých trávnatých plôch a nezarastených hradieb. V tom bola krása symbiózy života človeka so zvieratami\, na ktorú nadväzujeme aj my. \nA tak kozičky\, ovečky a niekedy aj fešák somár pomáhajú už veľa rokov s údržbou trávnatých lúk na hrade Devín a šetria tak benzín do kosačiek a svojimi kopýtkami a trusom pomáhajú zlepšovať stav pôdy\, na ktorej to potom kvitne a bzučí. Spoločne si prejdeme miesta\, na ktorých sa naše zvieratá pasú\, a podebatujeme o rastlinách a hmyze\, ktorým sa tu vďaka nim darí\, ale napríklad aj o menej známych zaujímavých faktoch o ich truse\, ktoré vás prekvapia.
URL:https://hraddevin.mmb.sk/podujatie/pastva-na-devine/
LOCATION:Hrad Devín\, Muránska 10\, Bratislava\, Slovakia (Slovak Republic)
CATEGORIES:komentovaná prechádzka
ATTACH;FMTTYPE=image/jpeg:https://hraddevin.mmb.sk/wp-content/uploads/2023/07/hlavna-.jpg
ORGANIZER;CN="M%C3%BAzeum mesta Bratislavy":MAILTO:hrad.devin@mmb.sk
END:VEVENT
END:VCALENDAR