BEGIN:VCALENDAR
VERSION:2.0
PRODID:-//Hrad Devín - ECPv6.15.18//NONSGML v1.0//EN
CALSCALE:GREGORIAN
METHOD:PUBLISH
X-WR-CALNAME:Hrad Devín
X-ORIGINAL-URL:https://hraddevin.mmb.sk
X-WR-CALDESC:Udalosti pre Hrad Devín
REFRESH-INTERVAL;VALUE=DURATION:PT1H
X-Robots-Tag:noindex
X-PUBLISHED-TTL:PT1H
BEGIN:VTIMEZONE
TZID:Europe/Bratislava
BEGIN:DAYLIGHT
TZOFFSETFROM:+0100
TZOFFSETTO:+0200
TZNAME:CEST
DTSTART:20230326T010000
END:DAYLIGHT
BEGIN:STANDARD
TZOFFSETFROM:+0200
TZOFFSETTO:+0100
TZNAME:CET
DTSTART:20231029T010000
END:STANDARD
BEGIN:DAYLIGHT
TZOFFSETFROM:+0100
TZOFFSETTO:+0200
TZNAME:CEST
DTSTART:20240331T010000
END:DAYLIGHT
BEGIN:STANDARD
TZOFFSETFROM:+0200
TZOFFSETTO:+0100
TZNAME:CET
DTSTART:20241027T010000
END:STANDARD
BEGIN:DAYLIGHT
TZOFFSETFROM:+0100
TZOFFSETTO:+0200
TZNAME:CEST
DTSTART:20250330T010000
END:DAYLIGHT
BEGIN:STANDARD
TZOFFSETFROM:+0200
TZOFFSETTO:+0100
TZNAME:CET
DTSTART:20251026T010000
END:STANDARD
END:VTIMEZONE
BEGIN:VEVENT
DTSTART;TZID=Europe/Bratislava:20240515T140000
DTEND;TZID=Europe/Bratislava:20240515T163000
DTSTAMP:20260426T025337
CREATED:20240510T135808Z
LAST-MODIFIED:20240510T135808Z
UID:6613-1715781600-1715790600@hraddevin.mmb.sk
SUMMARY:МАКРО: Історія Девінського граду
DESCRIPTION:Podujatie v ukrajinskom jazyku.\nPripravené v spolupráci s UNICEF. \nДевінський град розпочав свою історію ще більш ніж 7000 років назад. Під час пояснення лектора ви маєте можливість більше дізнатися про існування та розвиток замку від доісторичного поселення до наших днів. Окрім того\, разом задумаємось про символіку місця та його важливість для суспільства. \nЗахід є частиною формату заходів МАКРО та МІКРО\, завдяки якому ви зможете познайомитися з експонатами та об’єктами ММБ. Екскурсії з гідом та лекції проводяться підготовленими лекторами ММБ. \nЗахід відбудеться українською мовою.\nЗахід відбувається за підтримки ЮНІСЕФ та міста Братислава. \nВхід вільний.\nКількість місць на заході обмежена\, будь ласка\, забронюйте своє місце онлайн на GoOut.net. Один квиток дійсний для однієї особи (дорослого або дитини).\nМісце зустрічі: в’їзна брама Девінського замку \n 
URL:https://hraddevin.mmb.sk/podujatie/%d0%bc%d0%b0%d0%ba%d1%80%d0%be-%d1%96%d1%81%d1%82%d0%be%d1%80%d1%96%d1%8f-%d0%b4%d0%b5%d0%b2%d1%96%d0%bd%d1%81%d1%8c%d0%ba%d0%be%d0%b3%d0%be-%d0%b3%d1%80%d0%b0%d0%b4%d1%83/
LOCATION:Hrad Devín\, Muránska 10\, Bratislava\, Slovakia (Slovak Republic)
ATTACH;FMTTYPE=image/jpeg:https://hraddevin.mmb.sk/wp-content/uploads/2023/10/Stretnime-sa-na-hrade_foto-MMB.jpg
ORGANIZER;CN="M%C3%BAzeum mesta Bratislavy":MAILTO:hrad.devin@mmb.sk
END:VEVENT
END:VCALENDAR