BEGIN:VCALENDAR
VERSION:2.0
PRODID:-//Hrad Devín - ECPv6.15.18//NONSGML v1.0//EN
CALSCALE:GREGORIAN
METHOD:PUBLISH
X-WR-CALNAME:Hrad Devín
X-ORIGINAL-URL:https://hraddevin.mmb.sk
X-WR-CALDESC:Udalosti pre Hrad Devín
REFRESH-INTERVAL;VALUE=DURATION:PT1H
X-Robots-Tag:noindex
X-PUBLISHED-TTL:PT1H
BEGIN:VTIMEZONE
TZID:Europe/Bratislava
BEGIN:DAYLIGHT
TZOFFSETFROM:+0100
TZOFFSETTO:+0200
TZNAME:CEST
DTSTART:20230326T010000
END:DAYLIGHT
BEGIN:STANDARD
TZOFFSETFROM:+0200
TZOFFSETTO:+0100
TZNAME:CET
DTSTART:20231029T010000
END:STANDARD
BEGIN:DAYLIGHT
TZOFFSETFROM:+0100
TZOFFSETTO:+0200
TZNAME:CEST
DTSTART:20240331T010000
END:DAYLIGHT
BEGIN:STANDARD
TZOFFSETFROM:+0200
TZOFFSETTO:+0100
TZNAME:CET
DTSTART:20241027T010000
END:STANDARD
BEGIN:DAYLIGHT
TZOFFSETFROM:+0100
TZOFFSETTO:+0200
TZNAME:CEST
DTSTART:20250330T010000
END:DAYLIGHT
BEGIN:STANDARD
TZOFFSETFROM:+0200
TZOFFSETTO:+0100
TZNAME:CET
DTSTART:20251026T010000
END:STANDARD
END:VTIMEZONE
BEGIN:VEVENT
DTSTART;TZID=Europe/Bratislava:20240601T100000
DTEND;TZID=Europe/Bratislava:20240601T190000
DTSTAMP:20260426T025256
CREATED:20240524T102607Z
LAST-MODIFIED:20240528T141112Z
UID:6627-1717236000-1717268400@hraddevin.mmb.sk
SUMMARY:Rytieri na Devíne
DESCRIPTION:Pozývame na prvý tohtoročný program skupiny TOSTABUR na hrade Devín.\nVezmú vás na ozajstnú cestu v čase – obdobia\, do ktorých sa s nimi prenesiete\, delí približne 1400 rokov. \n  \nPROGRAM:  \n10.00 – Otvorenie hradu Devín\, \n11.00 – cvičenie legionárov. Predvedenie bojovej pripravenosti rímskej légie\, cvičenia na povely\, vrhanie oštepom – pillom. Ukážky vojenských formácií útočného aj obranného charakteru. Prezentácia vojaka – legionára – jeho výstroje a výzbroje\, ako aj dôstojníkov a špeciálnych typov vojakov\, \n12.00 – predstavenie lukostrelcov. Predvedenie techniky a zoznámenie s históriou  tureckej lukostreľby. Ukážky šikovnosti narábania s lukom jednotlivcov ako aj synchronizovaná streľba celej jednotky strelcov\, \n13.00 – dobové historické tance \n14.00 – “Uhorský Simplicissimus“. Hraný príbeh na motívy renesančnej autobiografickej novely mladíka\, ktorý žil v 17. storočí na  Slovensku\, \n15.00 – kúzelnícke okienko – veselý a vtipný kúzelník\, ktorý pobaví malých aj veľkých\, \n16.00 – uhorský rytiersky turnaj. Rytiersky turnaj usporiadaný pri uzatváraní mieru s Osmanskou ríšou. Príbeh inšpirovaný autentickým dianím pri nastolení tzv. “Žitavského mieru”\, ktorý uzavrel palatín Thurzo. Jednotliví účastníci turnaja majú svoj predobraz v reálnych historických osobnostiach uhorských dejín. Konfrontácia rozličných kultúr však nezostane len pri mierovom meraní síl v jednotlivých jazdných a peších disciplínach\, \n17.30 – recitál dobovej hudby a prózy. Recitál tematicky zaradený do rôznych období – od stredoveku po barok. Výber prózy a poézie v podaní šermiarskeho majstra Petra Kozu doplnený o živý alebo reprodukovaný hudobný podklad z daného obdobia\, \n18.30 – záverečný ceremoniál plný šermiarskych súbojov\, tanca a vlajúcich zástav\, \n19.00 – uzavretie hradu. \n  \nVSTUPNÉ: \nzákladné vstupné – 12 EUR \nzľavnené vstupné –  6 EUR \n(deti od 6 do 15 rokov\, žiak/-čka a študent/-ka\, seniori 65+) \nveľké rodinné vstupné (dvaja dospelí+ 3 deti) – 27 EUR \nmalé rodinné vstupné (jeden dospelý+ 2 deti) – 15 EUR \nVstupenky teraz kúpite aj online.  \n  \n  \n 
URL:https://hraddevin.mmb.sk/podujatie/rytieri-na-devine/
LOCATION:Hrad Devín\, Muránska 10\, Bratislava\, Slovakia (Slovak Republic)
ATTACH;FMTTYPE=image/jpeg:https://hraddevin.mmb.sk/wp-content/uploads/2024/05/thumbnail_IMG_2498.jpeg
END:VEVENT
END:VCALENDAR