BEGIN:VCALENDAR
VERSION:2.0
PRODID:-//Hrad Devín - ECPv6.15.18//NONSGML v1.0//EN
CALSCALE:GREGORIAN
METHOD:PUBLISH
X-WR-CALNAME:Hrad Devín
X-ORIGINAL-URL:https://hraddevin.mmb.sk
X-WR-CALDESC:Udalosti pre Hrad Devín
REFRESH-INTERVAL;VALUE=DURATION:PT1H
X-Robots-Tag:noindex
X-PUBLISHED-TTL:PT1H
BEGIN:VTIMEZONE
TZID:Europe/Bratislava
BEGIN:DAYLIGHT
TZOFFSETFROM:+0100
TZOFFSETTO:+0200
TZNAME:CEST
DTSTART:20230326T010000
END:DAYLIGHT
BEGIN:STANDARD
TZOFFSETFROM:+0200
TZOFFSETTO:+0100
TZNAME:CET
DTSTART:20231029T010000
END:STANDARD
BEGIN:DAYLIGHT
TZOFFSETFROM:+0100
TZOFFSETTO:+0200
TZNAME:CEST
DTSTART:20240331T010000
END:DAYLIGHT
BEGIN:STANDARD
TZOFFSETFROM:+0200
TZOFFSETTO:+0100
TZNAME:CET
DTSTART:20241027T010000
END:STANDARD
BEGIN:DAYLIGHT
TZOFFSETFROM:+0100
TZOFFSETTO:+0200
TZNAME:CEST
DTSTART:20250330T010000
END:DAYLIGHT
BEGIN:STANDARD
TZOFFSETFROM:+0200
TZOFFSETTO:+0100
TZNAME:CET
DTSTART:20251026T010000
END:STANDARD
END:VTIMEZONE
BEGIN:VEVENT
DTSTART;TZID=Europe/Bratislava:20240613T180000
DTEND;TZID=Europe/Bratislava:20240613T193000
DTSTAMP:20260426T015121
CREATED:20240612T160500Z
LAST-MODIFIED:20240612T160540Z
UID:6738-1718301600-1718307000@hraddevin.mmb.sk
SUMMARY:HRANICA DEVÍN // komentovaná prechádzka
DESCRIPTION:Ostnaté drôty\, míny\, nástražné systémy a smrteľné pasce – aj taká bola nedávna história priestoru okolo hradu Devín. Pozývame na komentovanú prehliadku okolia hradu Devín ako významného miesta ležiaceho na železnej opone. V tomto období bol bránou pre utekajúcich zo socialistického raja s nádejou na slobodný život.\nKomentovaná prechádzka je sprievodným programom novej výstavy Pozor\, hranica! Devín v železnej opone 1948 – 1989. \nPrehliadkou vás bude sprevádzať riaditeľ Archívu ÚPN Peter Mikle.\nVstupenky v predaji na GoOut. net. \n 
URL:https://hraddevin.mmb.sk/podujatie/hranica-devin-2/
LOCATION:Hrad Devín\, Muránska 10\, Bratislava\, Slovakia (Slovak Republic)
CATEGORIES:komentovaná prechádzka
ATTACH;FMTTYPE=image/jpeg:https://hraddevin.mmb.sk/wp-content/uploads/2024/05/P-00330-Devin-slavnosti.jpg
ORGANIZER;CN="M%C3%BAzeum mesta Bratislavy":MAILTO:hrad.devin@mmb.sk
END:VEVENT
END:VCALENDAR