BEGIN:VCALENDAR
VERSION:2.0
PRODID:-//Hrad Devín - ECPv6.15.18//NONSGML v1.0//EN
CALSCALE:GREGORIAN
METHOD:PUBLISH
X-ORIGINAL-URL:https://hraddevin.mmb.sk
X-WR-CALDESC:Udalosti pre Hrad Devín
REFRESH-INTERVAL;VALUE=DURATION:PT1H
X-Robots-Tag:noindex
X-PUBLISHED-TTL:PT1H
BEGIN:VTIMEZONE
TZID:Europe/Bratislava
BEGIN:DAYLIGHT
TZOFFSETFROM:+0100
TZOFFSETTO:+0200
TZNAME:CEST
DTSTART:20230326T010000
END:DAYLIGHT
BEGIN:STANDARD
TZOFFSETFROM:+0200
TZOFFSETTO:+0100
TZNAME:CET
DTSTART:20231029T010000
END:STANDARD
BEGIN:DAYLIGHT
TZOFFSETFROM:+0100
TZOFFSETTO:+0200
TZNAME:CEST
DTSTART:20240331T010000
END:DAYLIGHT
BEGIN:STANDARD
TZOFFSETFROM:+0200
TZOFFSETTO:+0100
TZNAME:CET
DTSTART:20241027T010000
END:STANDARD
BEGIN:DAYLIGHT
TZOFFSETFROM:+0100
TZOFFSETTO:+0200
TZNAME:CEST
DTSTART:20250330T010000
END:DAYLIGHT
BEGIN:STANDARD
TZOFFSETFROM:+0200
TZOFFSETTO:+0100
TZNAME:CET
DTSTART:20251026T010000
END:STANDARD
END:VTIMEZONE
BEGIN:VEVENT
DTSTART;TZID=Europe/Bratislava:20240615T210000
DTEND;TZID=Europe/Bratislava:20240615T223000
DTSTAMP:20260426T015421
CREATED:20240612T161345Z
LAST-MODIFIED:20240612T161449Z
UID:6741-1718485200-1718490600@hraddevin.mmb.sk
SUMMARY:NOSFERATU X THE BLACKWOOD INCIDENT // filmové premietanie
DESCRIPTION:(VYPREDANÉ)\nPre info o ďalších premietaniach na hrade Devín sledujte náš kalendár podujatí. \nNOSFERATU X THE BLACKWOOD INCIDENT \nPočas letnej sezóny 2024 prináša MMB na Hrad Devín jedinečné filmové večery. Zažite nočnú atmosféru hradu a súznenie hudby a filmu počas premietania legendárneho Nosferatu a živého vystúpenia The Blackwood Incident. \n1922\, 94 min.\nPravdepodobne najznámejší hororový snímok\, ktorý doposiaľ vznikol. Klasický horor nemej éry vychádza zo slávneho Stokerovho románu Dracula\, ale kvôli problémom s autorskými právami musel Friedrich Wilhelm Murnau zmeniť názov i mená postáv. A tak vo filme mladý úradník realitnej kancelárie Hutter \nTHE BLACKWOOD INCIDENT\nNeurčité snové plochy\, vyprahnuté dni a sny\, fantázie o zajtrajškoch\, čerpanie z minutých včerajškov.  Meditácie v priestore zvukov a obrazov\, snívanie\, odchádzanie\, vysokohorská psychedélia. Uspávanie a prebúdzanie\, hľadanie a oddávanie sa.  Analógovo digitálny šamanizmus Dominika Nováka\, Jozefa Čaba a Michala Hrozáňa. Rituál. The Blackwood Incident je audiovizuálny projekt\, ktorý pôsobí na bratislavskej experimentálnej scéne od roku 2016. Jeho vystúpenia sú prevažne improvizované\, naživo vytvárané príbehy pracujúce s akustickými nástrojmi ako zdrojom zvukov a kombinujú ich s hutnými synthovými plochami. \nPodujatie je organizované v spolupráci s Hradby Samoty\, ArcArt a Filmeurope. \n  \n 
URL:https://hraddevin.mmb.sk/podujatie/6741/
LOCATION:Hrad Devín\, Muránska 10\, Bratislava\, Slovakia (Slovak Republic)
CATEGORIES:filmové premietanie
ATTACH;FMTTYPE=image/jpeg:https://hraddevin.mmb.sk/wp-content/uploads/2024/06/cc998c8a-c56a-456d-976f-4cfa0ab3713c-4.jpg
ORGANIZER;CN="M%C3%BAzeum mesta Bratislavy":MAILTO:hrad.devin@mmb.sk
END:VEVENT
END:VCALENDAR