BEGIN:VCALENDAR
VERSION:2.0
PRODID:-//Hrad Devín - ECPv6.15.18//NONSGML v1.0//EN
CALSCALE:GREGORIAN
METHOD:PUBLISH
X-ORIGINAL-URL:https://hraddevin.mmb.sk
X-WR-CALDESC:Udalosti pre Hrad Devín
REFRESH-INTERVAL;VALUE=DURATION:PT1H
X-Robots-Tag:noindex
X-PUBLISHED-TTL:PT1H
BEGIN:VTIMEZONE
TZID:Europe/Bratislava
BEGIN:DAYLIGHT
TZOFFSETFROM:+0100
TZOFFSETTO:+0200
TZNAME:CEST
DTSTART:20230326T010000
END:DAYLIGHT
BEGIN:STANDARD
TZOFFSETFROM:+0200
TZOFFSETTO:+0100
TZNAME:CET
DTSTART:20231029T010000
END:STANDARD
BEGIN:DAYLIGHT
TZOFFSETFROM:+0100
TZOFFSETTO:+0200
TZNAME:CEST
DTSTART:20240331T010000
END:DAYLIGHT
BEGIN:STANDARD
TZOFFSETFROM:+0200
TZOFFSETTO:+0100
TZNAME:CET
DTSTART:20241027T010000
END:STANDARD
BEGIN:DAYLIGHT
TZOFFSETFROM:+0100
TZOFFSETTO:+0200
TZNAME:CEST
DTSTART:20250330T010000
END:DAYLIGHT
BEGIN:STANDARD
TZOFFSETFROM:+0200
TZOFFSETTO:+0100
TZNAME:CET
DTSTART:20251026T010000
END:STANDARD
END:VTIMEZONE
BEGIN:VEVENT
DTSTART;TZID=Europe/Bratislava:20240620T190000
DTEND;TZID=Europe/Bratislava:20240620T213000
DTSTAMP:20260426T025838
CREATED:20240614T133806Z
LAST-MODIFIED:20240614T134519Z
UID:6752-1718910000-1718919000@hraddevin.mmb.sk
SUMMARY:Scenery x Sun(DJ)Set // Yanko Kral & Miklei
DESCRIPTION:Vychutnajte si západ slnka na Devíne\, kde vás roztancujú DJi Yanko Kral & Miklei.\n\nPodujatie sa doslova odohrá v priestoroch horného hradu\, ktorý má limitované kapacity\, preto neváhajte a užite si s nami atmosféru tohto miesta.\nYanko Kral je na scéne vyše 20 rokov. Už 13 rokov ho môžete počuť v Scéne_FM\, kde každý piatok zhromažďuje to najlepšie a najnovšie zo sveta elektronickej hudby. Je aj spolumajiteľ bratislavského klubu Šafko a hudobnej školy LFO. Vo svojich setoch mixuje žánre ako bass music\, UK garage\, house\, hip hop a búchanice rôznych druhov. \nMiklei je ukrajinská techno DJka žijúca v Bratislave. Jej sety sú rýchle a plné energie. Rada mieša hypnotické repetitívne techno s vokálmi a hardgrooves. Taktiež rada experimentuje a svoju selekciu stavia zo zmesi oldschoolového techna\, breakbeatov a groovov. \nVstupenky v predaji na GoOut.net. \nPo skončení DJ setu\, ktorý začína o 19:00  máte jedinečnú možnosť ostať v areáli hradu aj po otváracích hodinách. \nUPOZORNENIE:\nFajčenie v priestore podujatia je zakázané\, prosíme\, dodržujte pokyny organizátorov.\nUpozorňujeme návštevníkov a návštevníčky\, že v priebehu podujatia bude vyhotovený fotografický a/alebo video záznam.
URL:https://hraddevin.mmb.sk/podujatie/scenery-x-sundjset-yanko-kral-miklei/
LOCATION:Hrad Devín\, Muránska 10\, Bratislava\, Slovakia (Slovak Republic)
CATEGORIES:DJ set,koncert
ATTACH;FMTTYPE=image/jpeg:https://hraddevin.mmb.sk/wp-content/uploads/2024/06/YANKO-KRAL-MIKLEI_SunDJSet_2006.jpg
ORGANIZER;CN="M%C3%BAzeum mesta Bratislavy":MAILTO:hrad.devin@mmb.sk
END:VEVENT
END:VCALENDAR