BEGIN:VCALENDAR
VERSION:2.0
PRODID:-//Hrad Devín - ECPv6.15.18//NONSGML v1.0//EN
CALSCALE:GREGORIAN
METHOD:PUBLISH
X-WR-CALNAME:Hrad Devín
X-ORIGINAL-URL:https://hraddevin.mmb.sk
X-WR-CALDESC:Udalosti pre Hrad Devín
REFRESH-INTERVAL;VALUE=DURATION:PT1H
X-Robots-Tag:noindex
X-PUBLISHED-TTL:PT1H
BEGIN:VTIMEZONE
TZID:Europe/Bratislava
BEGIN:DAYLIGHT
TZOFFSETFROM:+0100
TZOFFSETTO:+0200
TZNAME:CEST
DTSTART:20230326T010000
END:DAYLIGHT
BEGIN:STANDARD
TZOFFSETFROM:+0200
TZOFFSETTO:+0100
TZNAME:CET
DTSTART:20231029T010000
END:STANDARD
BEGIN:DAYLIGHT
TZOFFSETFROM:+0100
TZOFFSETTO:+0200
TZNAME:CEST
DTSTART:20240331T010000
END:DAYLIGHT
BEGIN:STANDARD
TZOFFSETFROM:+0200
TZOFFSETTO:+0100
TZNAME:CET
DTSTART:20241027T010000
END:STANDARD
BEGIN:DAYLIGHT
TZOFFSETFROM:+0100
TZOFFSETTO:+0200
TZNAME:CEST
DTSTART:20250330T010000
END:DAYLIGHT
BEGIN:STANDARD
TZOFFSETFROM:+0200
TZOFFSETTO:+0100
TZNAME:CET
DTSTART:20251026T010000
END:STANDARD
END:VTIMEZONE
BEGIN:VEVENT
DTSTART;TZID=Europe/Bratislava:20240629T100000
DTEND;TZID=Europe/Bratislava:20240630T190000
DTSTAMP:20260426T025241
CREATED:20240527T132314Z
LAST-MODIFIED:20240618T134522Z
UID:6636-1719655200-1719774000@hraddevin.mmb.sk
SUMMARY:Živá história na hrade Devín
DESCRIPTION:Pozývame na podujatie Živá história\, ktoré interaktívnou formou významné obdobia v dejinách hradu Devín – pravek\, starovek\, ranný a vrcholný stredovek\, renesanciu\, baroko a dobu Uhorského kráľovstva. \nBohatý program bude pozostávať zo šermiarskych aj hudobných vystúpení\, prednášok a sprievodných aktivít zameraných na deti aj dospelých návštevníkov. V priestore hradu Devín budú postavené rôznorodé dobové stanové tábory – pre návštevníkov voľne sprístupnené s možnosťou odfotografovať sa s účinkujúcimi v kostýmoch\, interaktívne dobové detské hry a dobové aktivity i prezentácia dobových remesiel. Stánky s občerstvením kladú dôraz na tradičné a dobové pokrmy (regionálne špeciality\, dobová kuchyňa). \nPROGRAM: \nSobota 29.6. 2024\n10.00 Otvorenie brán \n10.30 Zahájenie podujatia – Slávnostný sprievod\nSlávnostný sprievod účinkujúcich skupín na hlavné pódium\, predstavenie programu a krátka ukážka každej skupiny (šermiarsky súboj\, apod.) \n11.30 Mladé Medvede – šermiarke vystúpenie\nVystúpenie detí z krúžku historického šermu. Súčasťou programu je napríklad spoločné šermiarske cvičenie „kata“\, súboje aj humorná hraná scénka pre deti „Stredoveký lov na kanca“ \n12.30 LEGIO XIIII GMV (CZ) – šermiarke vystúpenie\nUkážka výcviku rímskych legionárov a bojových formácii \n13.00 Odhaľte tajomstvo hlaholiky – Radomír Jelínek (Tri Jelene)\nPrednáška o vzniku histórii najstaršieho slovanského písma + workshop \n14.30 ŠDS Argyll – šermiarke vystúpenie\nUkážka súbojov a formácii z obdobia ranného stredoveku a rekonštrukcia života Normanov z 12. storočia \n15.00 KVH Carpathia\nPrednáška o histórii  + ukážka streľby \n15.30 SHŠ Ursus – šermiarske vystúpenie\nŠermiarske súboje z obdobia vrcholného stredoveku (15. st.) \n16.00 Tajomstvo devínskeho koníka – Pavol Jelínek\nPrednáška o histórii \n17.30 Fratres in Armis (CZ) – šermiarke vystúpenie\nŠermiarske súboje z obdobia renesancie\, ukážky súbojov landsknechtov \n18.00 Koncert Musica Ursusica\nKoncert dobovej hudby (world music\, stredoveké a renesančné piesne) \n18.30 Ukončenie podujatia a rozlúčenie \n19.00 Zatvorenie brán \n  \nNedeľa 30.6. 2024\n10.00 Otvorenie brán \n10.30 Zahájenie podujatia – Slávnostný sprievod\nSlávnostný sprievod účinkujúcich skupín na hlavné pódium\, predstavenie programu a krátka ukážka každej skupiny (šermiarsky súboj\, apod.) \n11.30 Mladé Medvede – šermiarke vystúpenie\nVystúpenie detí z krúžku historického šermu. Súčasťou programu je napríklad spoločné šermiarske cvičenie „kata“\, súboje aj humorná hraná scénka pre deti „Stredoveký lov na kanca“ \n12.00 KVH Carpathia\nPrednáška o histórii  + ukážka streľby \n12.30 Detská bitka\nInteraktívna aktivita pre návštevníkov – rytiersky výcvik a inscenovaná bitka s rytiermi za použitia bezpečných molitanových mečov \n13.30 Historická kuchyňa AMIS – Prednáška\nPrednáška o histórii na tému Každodennosť a úloha ženy v stredoveku \n15.00 SHŠ Ursus – šermiarske vystúpenie\nŠermiarske súboje z obdobia vrcholného stredoveku (15. st.) \n15.30 Historická kuchyňa AMIS\nWorkshop pre deti na tému Stredoveký nákup \n17.00 ŠDS Argyll – šermiarke vystúpenie\nUkážka súbojov a formácii z obdobia ranného stredoveku a rekonštrukcia života Normanov z 12. storočia \n17.30 Koncert Musica Ursusica\nKoncert dobovej hudby (world music\, stredoveké a renesančné piesne) \n18.30 Slávnostný rozlúčenie a ukončenie podujatia \n19.00 Zatvorenie brán \nSprievodné aktivity:  \n\nDobové tábory – historické stany\, nábytok\, rekvizity\, vlajky. K dispozícií bude pre návštevníkov jeden otvorený stan s nábytkom\, do ktorého budú môcť vstúpiť a prezrieť si z blízka vybavenie.\nUkážka zbraní – na stojanoch budú vystavené rôzne zbrane (meče\, šable\, tesáky\, sekery\, a pod.) na ukážku\, fotografie a v prípade záujmu aj odborný výklad.\nDetské hry – Príklad: Hod krúžkami/podkovami na terč\, Rebrík (Spin Ladder)\, Hod guličkami na terč\, Drevený petanque\, Šach\, Rybačka (pre menšie deti)\, Skákací panák\, Drevené pexeso\, Molitanové palice\, Chodúle\nHistorická strelnica\, Drevený kolotoč\, Raznica mincí\nUkážka dobových remesiel: Sviečkar\, Kováč\, Stolárska dielňa\, Bylinárka\, Kníhtlač\n\n  \nVstupné:\nJednodňové vstupné (platné iba na jeden deň programu\, t.j. iba na sobotu 29.6. alebo iba na nedeľu 30.6.): \nzákladné vstupné – 12 EUR\nzľavnené vstupné –  6 EUR\n(deti od 6 do 15 rokov\, žiak/-čka a študent/-ka\, seniori 65+)\nveľké rodinné vstupné (dvaja dospelí+ 3 deti) – 27 EUR\nmalé rodinné vstupné (jeden dospelý+ 2 deti) – 15 EUR \n  \nDvojdňové vstupné (platné na oba dni programu\, t.j. na sobotu 29.6. a aj na nedeľu 30.6.): \nzákladné vstupné – 20 EUR\nzľavnené vstupné –  10 EUR\n(deti od 6 do 15 rokov\, žiak/-čka a študent/-ka\, seniori 65+)\nveľké rodinné vstupné (dvaja dospelí+ 3 deti) – 48 EUR\nmalé rodinné vstupné (jeden dospelý+ 2 deti) – 25 EUR \n 
URL:https://hraddevin.mmb.sk/podujatie/ziva-historia-na-hrade-devin/
LOCATION:Hrad Devín\, Muránska 10\, Bratislava\, Slovakia (Slovak Republic)
CATEGORIES:zážitkové podujatie
ATTACH;FMTTYPE=image/jpeg:https://hraddevin.mmb.sk/wp-content/uploads/2024/05/DSC03583.jpg
ORGANIZER;CN="M%C3%BAzeum mesta Bratislavy":MAILTO:hrad.devin@mmb.sk
END:VEVENT
BEGIN:VEVENT
DTSTART;TZID=Europe/Bratislava:20240629T100000
DTEND;TZID=Europe/Bratislava:20240630T190000
DTSTAMP:20260426T025241
CREATED:20240528T140849Z
LAST-MODIFIED:20240618T134655Z
UID:6653-1719655200-1719774000@hraddevin.mmb.sk
SUMMARY:History Come Alive
DESCRIPTION:History Come Alive aims to present the significant periods in the history of Devín Castle in an engaging and interactive way\, spanning from prehistory to antiquity\, the early and high Middle Ages\, the Renaissance\, the Baroque period\, and the time of the Kingdom of Hungary.\nThe rich program will consist of fencing and musical performances\, lectures and accompanying activities aimed at children and adult visitors. Various period tent camps will be built in the area of Devín Castle – freely accessible to visitors with the opportunity to take photos with the performers in costumes\, interactive period children’s games and period activities\, as well as the presentation of period crafts. Food stalls emphasize traditional and period dishes (regional specialties\, period cuisine). \n\n  \nPROGRAM\nSaturday\, June 29\, 2024 \n10:00 AM – Gates Open \n10:30 AM – Official Opening – Parade\nCeremonial parade of the performing groups to the main stage\, presentation of the program\, and a short demonstration by each group (fencing duel\, etc.). \n11:30 AM – Young Bears\nPerformance by children from the historical fencing club. The program includes a joint fencing exercise „kata“\, duels\, and a comedy play for children\, „Medieval Boar Hunt.“ \n12:30 PM – LEGIO XIIII GMV (CZ) – Fencing Show\nDemonstration of the Roman legionaries’ drill routines and battle formations. \n1:00 PM – Reveal the secrets of Glagolitic – Radomír Jelínek (Tri Jelene)\nLecture on the history of the oldest Slavic script + workshop \n2:30 PM – ŠDS Argyll – Fencing Show\nDemonstration of duels and formations from the early medieval period and reconstruction of Norman life in the 12th century. \n3:00 PM – KVH Carpathia\nA historical lecture and archery demonstration. \n3:30 PM – SHŠ Ursus – Fencing Show\nFencing duels from the High Middle Ages (15th century). \n4:00 PM – The Mystery of the Devín Horse (Pavol Jelínek)\nA historical lecture. \n5:30 PM – Fratres in Armis (CZ) – Fencing Show\nFencing duels from the Renaissance period\, including demonstrations of Landsknecht duels. \n6:00 PM – Musica Ursusica in Concert\nConcert of period music featuring world music\, medieval\, and Renaissance songs. \n6:30 PM – Closing Ceremony \n7:00 PM – End of the Event and Castle Closing \n  \n  \nPROGRAM \nSunday\, June 30\, 2024 \n10:00 AM – Gates Open \n10:30 AM – Official Opening – Parade\nCeremonial parade of the performing groups to the main stage\, presentation of the program\, and a short demonstration by each group (fencing duel\, etc.). \n11:30 AM – Young Bears\nPerformance by children from the historical fencing club. The program includes a joint fencing exercise „kata“\, duels\, and a comedy play for children\, „Medieval Boar Hunt.“ \n12:00 PM – KVH Carpathia\nA historical lecture and archery demonstration. \n12:30 – The Battle of Kids\nAn interactive activity for visitors—knight training and a staged battle with knights using foam swords. \n1:30 PM – AMIS Historical Cooking – Lecture\nHistory lecture on everyday life and the role of women in the Middle Ages. \n3:00 PM – SHŠ Ursus – Fencing Show\nFencing duels from the High Middle Ages (15th century). \n3:30 PM – AMIS Historical Cooking\nWorkshop for children focused on medieval shopping. \n5:00 PM – ŠDS Argyll – Fencing Show\nDemonstration of duels and formations from the early medieval period and reconstruction of Norman life in the 12th century. \n5:30 PM – Musica Ursusica in Concert\nConcert of period music featuring world music\, medieval\, and Renaissance songs. \n6:30 PM – Closing Ceremony \n7:00 PM – End of the Event and Castle Closing \nOther activities:  \n\nPeriod Camps – historical tents\, furniture\, props\, flags. There will be one open tent with furniture for visitors to enter and get a closer look at the equipment.\nDemonstration of Weapons – various weapons (swords\, sabers\, dusacks\, axes\, etc.) will be exhibited on stands for demonstration\, photographs\, and\, if interested\, professional explanations of their histories.\nGames for Children – Children can enjoy activities such as ring/horseshoe throwing\, spin ladder\, ball throwing\, wooden pétanque\, chess\, fishing (for younger children)\, hopscotch\, a wooden game of concentration\, foam sticks\, and stilts.\nHistorical Shooting Range\, Wooden Carousel\, Minting Station\nDemonstration of Period Crafts: candle making\, smithery\, joinery\, herbalism\, typography\n\n  \n  \nADMISSION: \nOne-Day Admission (valid for a single day of the event\, either Saturday\, June 29\, or Sunday\, June 30): \nBasic Admission: €12 \nReduced Admission: €6 \n(children aged 6 to 15\, students\, and seniors over 65) \nBig Family Package (2 adults + 3 children): €27 \nSmall Family Package (1 adult + 2 children): €15 \n  \nTwo-Day Admission (valid for both Saturday\, June 29\, and Sunday\, June 30): \nBasic Admission: €20 \nReduced Admission: €10 \n(children aged 6 to 15\, students\, and seniors over 65) \nBig Family Package (2 adults + 3 children): €48 \nSmall Family Package (1 adult + 2 children): €25
URL:https://hraddevin.mmb.sk/podujatie/history-come-alive-2/
LOCATION:Hrad Devín\, Muránska 10\, Bratislava\, Slovakia (Slovak Republic)
CATEGORIES:zážitkové podujatie
ATTACH;FMTTYPE=image/jpeg:https://hraddevin.mmb.sk/wp-content/uploads/2024/05/DSC03583.jpg
ORGANIZER;CN="M%C3%BAzeum mesta Bratislavy":MAILTO:hrad.devin@mmb.sk
END:VEVENT
END:VCALENDAR