BEGIN:VCALENDAR
VERSION:2.0
PRODID:-//Hrad Devín - ECPv6.15.18//NONSGML v1.0//EN
CALSCALE:GREGORIAN
METHOD:PUBLISH
X-ORIGINAL-URL:https://hraddevin.mmb.sk
X-WR-CALDESC:Udalosti pre Hrad Devín
REFRESH-INTERVAL;VALUE=DURATION:PT1H
X-Robots-Tag:noindex
X-PUBLISHED-TTL:PT1H
BEGIN:VTIMEZONE
TZID:Europe/Bratislava
BEGIN:DAYLIGHT
TZOFFSETFROM:+0100
TZOFFSETTO:+0200
TZNAME:CEST
DTSTART:20230326T010000
END:DAYLIGHT
BEGIN:STANDARD
TZOFFSETFROM:+0200
TZOFFSETTO:+0100
TZNAME:CET
DTSTART:20231029T010000
END:STANDARD
BEGIN:DAYLIGHT
TZOFFSETFROM:+0100
TZOFFSETTO:+0200
TZNAME:CEST
DTSTART:20240331T010000
END:DAYLIGHT
BEGIN:STANDARD
TZOFFSETFROM:+0200
TZOFFSETTO:+0100
TZNAME:CET
DTSTART:20241027T010000
END:STANDARD
BEGIN:DAYLIGHT
TZOFFSETFROM:+0100
TZOFFSETTO:+0200
TZNAME:CEST
DTSTART:20250330T010000
END:DAYLIGHT
BEGIN:STANDARD
TZOFFSETFROM:+0200
TZOFFSETTO:+0100
TZNAME:CET
DTSTART:20251026T010000
END:STANDARD
END:VTIMEZONE
BEGIN:VEVENT
DTSTART;TZID=Europe/Bratislava:20240809T190000
DTEND;TZID=Europe/Bratislava:20240810T100000
DTSTAMP:20260425T221324
CREATED:20240626T174751Z
LAST-MODIFIED:20240805T111927Z
UID:6814-1723230000-1723284000@hraddevin.mmb.sk
SUMMARY:Stanovačka na hrade // CAMPING AT THE CASTLE
DESCRIPTION:SK: \nPridajte sa k nám na letnú stanovačku na hrade\, perfektnú pre rodiny\, ktoré hľadajú dobrodružstvo a zábavu! Tento jedinečný zážitok v lokalite hradu Devín ponúka spojenie prírody a zaujímavej histórie. Užite si noc pod hviezdami plnú aktivít vrátane tvorivého čítania\, pátracej nočnej hry a prípravy malého občerstvenia. Popri programe sa ponorte do pokojnej atmosféry večerného hradu\, kde budete jeho jediní návštevníci. S ohromujúcimi výhľadmi a so zábavnými aktivitami na stanovačke získate nezabudnuteľné spomienky pre celú rodinu. Nepremeškajte toto očarujúce dobrodružstvo! \nVstupné:\nmalá rodinná vstupenka (najviac 3 osoby) 35 €\nveľká rodinná vstupenka (najviac 5 osôb) 55 €\nNutné priniesť si vlastný(é) stan(y). \nUpozorňujeme návštevníkov a návštevníčky\, že v priebehu podujatia môže byť vyhotovený fotografický a/alebo video záznam za účelom propagácie podujatí a činnosti MMB. \n  \nEN: \nJoin us for a summer camping adventure at the castle\, perfect for families seeking adventure and fun! This unique experience at Devín Castle combines nature with fascinating history. Enjoy a night under the stars filled with activities including creative storytelling\, nighttime scavenger hunts\, and preparing light refreshments. Alongside the program\, soak in the tranquil evening atmosphere of the castle\, where you’ll be its only visitors. With stunning views and enjoyable camping activities\, create unforgettable memories for the whole family. Don’t miss out on this enchanting adventure! \nEntrance Fee: \nSmall family ticket (up to 3 people): €35\nLarge family ticket (up to 5 people): €55 \nWe would like to inform visitors that a photographic and/or video recording may be proceeded during the event for the purpose of promoting the events and activities of the Bratislava City Museum. \n  \n  \n 
URL:https://hraddevin.mmb.sk/podujatie/stanovacka-na-hrade-2/
LOCATION:Hrad Devín\, Muránska 10\, Bratislava\, Slovakia (Slovak Republic)
CATEGORIES:rodinný program
ATTACH;FMTTYPE=image/jpeg:https://hraddevin.mmb.sk/wp-content/uploads/2024/06/Stanovacka-na-Devine.jpg
ORGANIZER;CN="M%C3%BAzeum mesta Bratislavy":MAILTO:hrad.devin@mmb.sk
END:VEVENT
BEGIN:VEVENT
DTSTART;TZID=Europe/Bratislava:20240810T210000
DTEND;TZID=Europe/Bratislava:20240810T230000
DTSTAMP:20260425T221324
CREATED:20240704T123004Z
LAST-MODIFIED:20240805T111839Z
UID:6923-1723323600-1723330800@hraddevin.mmb.sk
SUMMARY:Letné kino na hrade: Kabinet doktora Caligariho X Do Shaska!  //  SUMMER MOVIES AT THE CASTLE: THE CABINET OF DR. CALIGARI X DOSHASKA!
DESCRIPTION:SK: \nPočas letnej sezóny 2024 prináša MMB na hrad Devín jedinečné filmové večery. Zažite nočnú atmosféru hradu a súznenie hudby a filmu počas premietania expresionistického Kabinetu doktora Caligariho a živého vystúpenia Do Shaska!   \nKabinet doktora Caligariho\nThe Cabinet of Dr. Caligari\nRobert Wiene\n1920\n71 min.\n(pôvodné znenie v DA\,SV s CZ titulkami)\n \nKabinet doktora Caligariho býva označovaný ako prvé expresionistické dielo. Jeho kúzlo spočíva predovšetkým v nevídanom riešení výtvarnej scény\, ktorú obstarala skupina mladých avantgardných umelcov DER STURM. Vytvorili dokonalé fantazijné dekorácie pokrivených deformovaných plôch a celkový dojem nereálneho sveta\, ktorý spolu s hereckými výkonmi\, výrazným líčením a bizarnou kombináciou svetla a tieňa dodávajú snímke potrebnú pôsobivosť. Caligari by sa dal chápať aj ako metafora pre povojnové Nemecko\, plné obáv a znepokojenia z nestálej situácie a strachu z budúcnosti. Caligari má predstavovať vtedajší systém\, štátnu autoritu a Cesare je iba bábka v jeho rukách\, ktorá plní rozkazy a v záujme veci aj zomiera.  \nDo Shaska!\nProjekt bol založený v roku 1989. Ústrednou postavou je umelec Michael Čihák\, ktorý stojí aj za vydavateľstvom Galerie Gryf. Do Shaska! je elektro-akustický post-industrial/etno/tribal projekt spájajúci elektronickú hudbu a klasické akustické nástroje\, ako je fagot\, fujara\, drumbľa\, ale aj mnoho ručne vyrábaných nástrojov. Ich začiatky v 90. rokoch sa spájajú práve s konceptom živých soundtrackov. Od počiatkov sa zameriavajú na adaptáciu vplyvov industrialu\, word music a ambientu so silným rituálnym až domorodo-tranzovým prejavom.  \nVstupenky v predaji v pokladnici hradu Devín do 19:00 alebo kedykoľvek na GoOut.net.\nVstupné: 12 eur v predpredaji\, 15 eur na mieste.  \nPodujatie je organizované v spolupráci s Hradby Samoty\, ArcArt a Film Europe. \n  \nEN: \nDuring the summer season of 2024\, BCM presents special film nights at Devín Castle. Experience the castle’s nighttime atmosphere while watching the expressionist classic The Cabinet of Dr. Caligari followed by a live performance by DoShaska! \nThe Cabinet of Dr. Caligari\nRobert Wiene\n1920\n71 min.\n(original sound  in DA\, SV with CZ subtitles) \nThe Cabinet of Dr. Caligari is often referred to as the first expressionist work of art. Its charm lies primarily in its unprecedented approach to set design\, made by a group of young avant-garde artists from DER STURM. They created impeccable fantastical decorations of twisted\, deformed surfaces and an overall impression of an unreal world\, enhanced by the actors‘ performances\, striking makeup\, and a bizarre interplay of light and shadow\, all contributing to the film’s major impact. Caligari could also be interpreted as a metaphor for post-war Germany\, full of fears and anxieties over an unstable situation and fear of the future. Caligari represents the former system\, the state authority\, and Cesare is merely a puppet in his hands\, executing orders and ultimately dying in the interest of the cause. \nDoShaska! \nFounded in 1989\, the central figure of the project is the artist Michael Čihák\, who also runs Galerie Gryf publishing house. DoShaska! is an electro-acoustic post-industrial/ethno/tribal project that combines electronic music with classical acoustic instruments such as bassoon\, fujara\, and jaw harp\, as well as numerous handmade instruments. Their band’s origins in the 1990s are closely tied to the concept of live soundtracks. From the outset\, they have focused on blending influences from industrial\, world music\, and ambient genres with a strong ritualistic and native-trance expression.\nThe event is organized in collaboration with Hradby Samoty\, ArcArt\, and Film Europe.\nTickets will soon be available online at Tootoot.fm \n€12 presale\, €15 on the spot.\nTickets on sale at the Devín Castle cash office until 7:00 p.m. or at any time at GoOut.net. \nThe event is organized in cooperation with Hradby Samoty\, ArcArt and Film Europe. \n  \n 
URL:https://hraddevin.mmb.sk/podujatie/letne-kino-na-hrade-kabinet-doktora-caligariho-x-do-shaska/
LOCATION:Hrad Devín\, Muránska 10\, Bratislava\, Slovakia (Slovak Republic)
CATEGORIES:filmové premietanie
ATTACH;FMTTYPE=image/jpeg:https://hraddevin.mmb.sk/wp-content/uploads/2024/07/Cabinet-of-Dr-Caligari_zdroj-foto-Film-Europe.jpg
ORGANIZER;CN="M%C3%BAzeum mesta Bratislavy":MAILTO:hrad.devin@mmb.sk
END:VEVENT
END:VCALENDAR