BEGIN:VCALENDAR
VERSION:2.0
PRODID:-//Hrad Devín - ECPv6.15.18//NONSGML v1.0//EN
CALSCALE:GREGORIAN
METHOD:PUBLISH
X-WR-CALNAME:Hrad Devín
X-ORIGINAL-URL:https://hraddevin.mmb.sk
X-WR-CALDESC:Udalosti pre Hrad Devín
REFRESH-INTERVAL;VALUE=DURATION:PT1H
X-Robots-Tag:noindex
X-PUBLISHED-TTL:PT1H
BEGIN:VTIMEZONE
TZID:Europe/Bratislava
BEGIN:DAYLIGHT
TZOFFSETFROM:+0100
TZOFFSETTO:+0200
TZNAME:CEST
DTSTART:20230326T010000
END:DAYLIGHT
BEGIN:STANDARD
TZOFFSETFROM:+0200
TZOFFSETTO:+0100
TZNAME:CET
DTSTART:20231029T010000
END:STANDARD
BEGIN:DAYLIGHT
TZOFFSETFROM:+0100
TZOFFSETTO:+0200
TZNAME:CEST
DTSTART:20240331T010000
END:DAYLIGHT
BEGIN:STANDARD
TZOFFSETFROM:+0200
TZOFFSETTO:+0100
TZNAME:CET
DTSTART:20241027T010000
END:STANDARD
BEGIN:DAYLIGHT
TZOFFSETFROM:+0100
TZOFFSETTO:+0200
TZNAME:CEST
DTSTART:20250330T010000
END:DAYLIGHT
BEGIN:STANDARD
TZOFFSETFROM:+0200
TZOFFSETTO:+0100
TZNAME:CET
DTSTART:20251026T010000
END:STANDARD
END:VTIMEZONE
BEGIN:VEVENT
DTSTART;TZID=Europe/Bratislava:20240816T183000
DTEND;TZID=Europe/Bratislava:20240816T210000
DTSTAMP:20260425T221219
CREATED:20240816T142426Z
LAST-MODIFIED:20240816T143434Z
UID:7331-1723833000-1723842000@hraddevin.mmb.sk
SUMMARY:Pocta slobode – TRIBUTE TO FREEDOM
DESCRIPTION:SK:\n\nOčarujúci koncert na očarujúcom mieste. Aj tento rok sa Hradom Devín počas už tradičného podujatia Pocta slobode – Tribute to freedom rozozvučia výnimočné hlasy troch slovenských umelkýň – Jany Kirschner\, Kataríny Knechtovej a Simi Magušinovovej.\n\n„Podujatie je neoddeliteľnou súčasťou kultúrneho a spoločenského leta v Bratislavskom regióne. Každoročne ho navštevujú nielen obyvatelia kraja a Bratislavy\, ale za umeleckým zážitkom sem prichádzajú ľudia z celého Slovenska. Koncert je pripomienkou výročia okupácie Československa vojskami Varšavskej zmluvy\, 80. výročia SNP a výročia pádu Železnej opony. Symbolicky sa každoročne usporadúva práve na hrade Devín\, ktorý sa postupne stáva pamätným miestom pre demokraticky zmýšľajúcich občanov Slovenska\,“ povedal predseda Bratislavského samosprávneho kraja Juraj Droba\, ktorý nad podujatím prevzal spolu s primátorom Bratislavy Matúšom Vallom záštitu. \n\nOd roku 2010 sa na hradnom pódiu vystriedalo viacero významných interpretov\, ako Sinéad O´Connor\, Eric Burdon a skupina Animals\, skupina Electric Light Orchestra\, ale aj Olympic\, Hex\, Vidiek\, Prúdy\, Vladimír Mišík a E.t.c…\, David Koller \, Richard Muller\, Sima Martausová\, Lenka Filipová\, Szidi Tobias\, Anetta Langerová\, Vlasta Redl\, Janko Lehotský\, Peter Lipa \, Milan Lasica\, Jiří Suchý\, Stanislav Štepka\, Tomáš Klus\, Billy Barman a mnohí ďalší.\n\nVstupenky si môžete kúpiť tu.\n\n\n\nEN:\n\n\nA special concert in a special place. \nAlso this year\, the extraordinary voices of three Slovak artists – Jana Kirschner\, Katarína Knechtová\, and Simi Magušinová – will resonate at Devín Castle during the already traditional Tribute to Freedom event. „The event is an integral part of the Cultural and social summer in the Bratislava region. Every year\, it is visited not only by residents of the region\, and Bratislava\, but people from all over Slovakia come here for an artistic experience. The concert is a reminder of the anniversary of the occupation of Czechoslovakia by Warsaw Pact troops\, the 80th anniversary of the Slovak National Uprising (SNP)\, and the anniversary of the collapse of the Iron Curtain. It is symbolically organized every year at Devín Castle\, which is gradually becoming a memorial place for democratically-minded citizens of Slovakia\,“ said the chairman of the Bratislava self-governing region\, Juraj Droba\, who took over the patronage of the event together with the mayor of Bratislava\, Matúš Vallo. \nSince 2010\, several significant performers have taken turns on the castle stage\, such as Sinéad O’Connor\, Eric Burdon and the band Animals\, the band Electric Light Orchestra\, but also Olympic\, Hex\, Vidiek\, Prúdy\, Vladimír Mišík and E.t.c…\, David Koller\, Richard Muller\, Sima Martausová\, Lenka Filipová\, Szidi Tobias\, Anetta Langerová\, Vlasta Redl\, Janko Lehotský\, Peter Lipa\, Milan Lasica\, Jiří Suchý\, Stanislav Štepka\, Tomáš Klus\, Billy Barman and many others. \nTickets available here.
URL:https://hraddevin.mmb.sk/podujatie/pocta-sloboda-tribute-to-freedom/
LOCATION:Hrad Devín\, Muránska 10\, Bratislava\, Slovakia (Slovak Republic)
CATEGORIES:koncert
ATTACH;FMTTYPE=image/jpeg:https://hraddevin.mmb.sk/wp-content/uploads/2024/08/orig_TRIBUTE_to_FREEDOM___POCTA_SLOBODE__15__rocnik_2024613112836.jpg
ORGANIZER;CN="Bratislavsk%C3%BD kraj":MAILTO:media@region-bsk.sk
END:VEVENT
END:VCALENDAR