BEGIN:VCALENDAR
VERSION:2.0
PRODID:-//Hrad Devín - ECPv6.15.18//NONSGML v1.0//EN
CALSCALE:GREGORIAN
METHOD:PUBLISH
X-WR-CALNAME:Hrad Devín
X-ORIGINAL-URL:https://hraddevin.mmb.sk
X-WR-CALDESC:Udalosti pre Hrad Devín
REFRESH-INTERVAL;VALUE=DURATION:PT1H
X-Robots-Tag:noindex
X-PUBLISHED-TTL:PT1H
BEGIN:VTIMEZONE
TZID:Europe/Bratislava
BEGIN:DAYLIGHT
TZOFFSETFROM:+0100
TZOFFSETTO:+0200
TZNAME:CEST
DTSTART:20230326T010000
END:DAYLIGHT
BEGIN:STANDARD
TZOFFSETFROM:+0200
TZOFFSETTO:+0100
TZNAME:CET
DTSTART:20231029T010000
END:STANDARD
BEGIN:DAYLIGHT
TZOFFSETFROM:+0100
TZOFFSETTO:+0200
TZNAME:CEST
DTSTART:20240331T010000
END:DAYLIGHT
BEGIN:STANDARD
TZOFFSETFROM:+0200
TZOFFSETTO:+0100
TZNAME:CET
DTSTART:20241027T010000
END:STANDARD
BEGIN:DAYLIGHT
TZOFFSETFROM:+0100
TZOFFSETTO:+0200
TZNAME:CEST
DTSTART:20250330T010000
END:DAYLIGHT
BEGIN:STANDARD
TZOFFSETFROM:+0200
TZOFFSETTO:+0100
TZNAME:CET
DTSTART:20251026T010000
END:STANDARD
END:VTIMEZONE
BEGIN:VEVENT
DTSTART;TZID=Europe/Bratislava:20241013T140000
DTEND;TZID=Europe/Bratislava:20241013T160000
DTSTAMP:20260425T183624
CREATED:20240919T121240Z
LAST-MODIFIED:20241001T120543Z
UID:7627-1728828000-1728835200@hraddevin.mmb.sk
SUMMARY:Rímska veslica na hrade Devín // ROMAN ROWBOAT AT DEVÍN CASTLE
DESCRIPTION:SK:\n\nPri príležitosti priplávania rímskej veslice do Devína sme si pre vás na hrade pripravili zaujímavú aktivitu. Zastavte sa a vytvorte si spolu s našimi lektorkami svoju vlastnú loďku.\nVstupné podľa cenníka hradu Devín. \n  \nEN: \nFamily program. \nIn celebration of the arrival of a Roman rowboat in Devín\, we have prepared an exciting activity for you at the castle. Stop by and create your own little boat with the help of our instructors.\nAdmission: According to the Devín Castle admission fees list.
URL:https://hraddevin.mmb.sk/podujatie/rimska-veslica-na-devine/
LOCATION:Hrad Devín\, Muránska 10\, Bratislava\, Slovakia (Slovak Republic)
CATEGORIES:rodinný program
ATTACH;FMTTYPE=image/jpeg:https://hraddevin.mmb.sk/wp-content/uploads/2024/09/Foto_Lujza-Stopkova_3.jpg
ORGANIZER;CN="M%C3%BAzeum mesta Bratislavy":MAILTO:hrad.devin@mmb.sk
END:VEVENT
END:VCALENDAR