BEGIN:VCALENDAR
VERSION:2.0
PRODID:-//Hrad Devín - ECPv6.15.18//NONSGML v1.0//EN
CALSCALE:GREGORIAN
METHOD:PUBLISH
X-ORIGINAL-URL:https://hraddevin.mmb.sk
X-WR-CALDESC:Udalosti pre Hrad Devín
REFRESH-INTERVAL;VALUE=DURATION:PT1H
X-Robots-Tag:noindex
X-PUBLISHED-TTL:PT1H
BEGIN:VTIMEZONE
TZID:Europe/Bratislava
BEGIN:DAYLIGHT
TZOFFSETFROM:+0100
TZOFFSETTO:+0200
TZNAME:CEST
DTSTART:20240331T010000
END:DAYLIGHT
BEGIN:STANDARD
TZOFFSETFROM:+0200
TZOFFSETTO:+0100
TZNAME:CET
DTSTART:20241027T010000
END:STANDARD
BEGIN:DAYLIGHT
TZOFFSETFROM:+0100
TZOFFSETTO:+0200
TZNAME:CEST
DTSTART:20250330T010000
END:DAYLIGHT
BEGIN:STANDARD
TZOFFSETFROM:+0200
TZOFFSETTO:+0100
TZNAME:CET
DTSTART:20251026T010000
END:STANDARD
BEGIN:DAYLIGHT
TZOFFSETFROM:+0100
TZOFFSETTO:+0200
TZNAME:CEST
DTSTART:20260329T010000
END:DAYLIGHT
BEGIN:STANDARD
TZOFFSETFROM:+0200
TZOFFSETTO:+0100
TZNAME:CET
DTSTART:20261025T010000
END:STANDARD
END:VTIMEZONE
BEGIN:VEVENT
DTSTART;TZID=Europe/Bratislava:20250718T203000
DTEND;TZID=Europe/Bratislava:20250718T223000
DTSTAMP:20260425T051435
CREATED:20250627T061013Z
LAST-MODIFIED:20250627T062712Z
UID:8823-1752870600-1752877800@hraddevin.mmb.sk
SUMMARY:POVOZNÍK SMRTI x KRAGROWARGKOMN & JORI JOSIPHSON // letné kino + hudba
DESCRIPTION:Počas letnej sezóny 2025 prinášame na hrad Devín jedinečné filmové večery.   \nŠvédsky Povozník smrti už viac ako sto rokov fascinuje divákov*čky svojím príbehom o smrti\, pokání a nádeji. Témami o nadobúdaní stratenej dôvery a obnovení rozpadnutých vzťahov má stále čo ponúknuť aj dnes. V rámci projektu Tiché noci na Devíne\, ktorý podporil Fond na podporu umenia\, ho hudobne doplnia experimentátor Jori Josiphson so svojou symbiózou elektronického a akustického zvuku a temný Kragrowargkomn. Ako sa im podarilo preniknúť do špecifickej atmosféry filmu?  \nPríďte si túto unikátnu kombináciu vychutnať v magických kulisách devínskeho hradu po západe slnka. \n Podujatie prinášame v spolupráci s Film Europe a Hradby Samoty.    \nVstupné: 12 €\, na mieste 15 €  \nVstupenky v predaji online na vstupenky.mmb.sk 
URL:https://hraddevin.mmb.sk/podujatie/povoznik-smrti-x-kragrowargkomn-jori-josiphson-letne-kino-hudba/
LOCATION:Hrad Devín\, Muránska 10\, Bratislava\, Slovakia (Slovak Republic)
CATEGORIES:filmové premietanie,zážitkové podujatie
ATTACH;FMTTYPE=image/jpeg:https://hraddevin.mmb.sk/wp-content/uploads/2025/06/Letne-kino_hudba_hrad-Devin.jpg
ORGANIZER;CN="M%C3%BAzeum mesta Bratislavy":MAILTO:hrad.devin@mmb.sk
END:VEVENT
END:VCALENDAR