BEGIN:VCALENDAR
VERSION:2.0
PRODID:-//Hrad Devín - ECPv6.15.18//NONSGML v1.0//EN
CALSCALE:GREGORIAN
METHOD:PUBLISH
X-WR-CALNAME:Hrad Devín
X-ORIGINAL-URL:https://hraddevin.mmb.sk
X-WR-CALDESC:Udalosti pre Hrad Devín
REFRESH-INTERVAL;VALUE=DURATION:PT1H
X-Robots-Tag:noindex
X-PUBLISHED-TTL:PT1H
BEGIN:VTIMEZONE
TZID:Europe/Bratislava
BEGIN:DAYLIGHT
TZOFFSETFROM:+0100
TZOFFSETTO:+0200
TZNAME:CEST
DTSTART:20240331T010000
END:DAYLIGHT
BEGIN:STANDARD
TZOFFSETFROM:+0200
TZOFFSETTO:+0100
TZNAME:CET
DTSTART:20241027T010000
END:STANDARD
BEGIN:DAYLIGHT
TZOFFSETFROM:+0100
TZOFFSETTO:+0200
TZNAME:CEST
DTSTART:20250330T010000
END:DAYLIGHT
BEGIN:STANDARD
TZOFFSETFROM:+0200
TZOFFSETTO:+0100
TZNAME:CET
DTSTART:20251026T010000
END:STANDARD
BEGIN:DAYLIGHT
TZOFFSETFROM:+0100
TZOFFSETTO:+0200
TZNAME:CEST
DTSTART:20260329T010000
END:DAYLIGHT
BEGIN:STANDARD
TZOFFSETFROM:+0200
TZOFFSETTO:+0100
TZNAME:CET
DTSTART:20261025T010000
END:STANDARD
END:VTIMEZONE
BEGIN:VEVENT
DTSTART;TZID=Europe/Bratislava:20250725T190000
DTEND;TZID=Europe/Bratislava:20250726T070000
DTSTAMP:20260425T063442
CREATED:20250627T072214Z
LAST-MODIFIED:20250715T091224Z
UID:8855-1753470000-1753513200@hraddevin.mmb.sk
SUMMARY:STANOVAČKA NA HRADE // pod hviezdami Devína // naplnená kapacita
DESCRIPTION:Zažite noc\, ktorú si vaše deti budú pamätať navždy! \nDevín ponúka dobrodružstvo plné aktivít vrátane tvorivého čítania\, pátracej nočnej hry a malého občerstvenia. V programe sa ponoríme do pokojnej atmosféry večerného hradu\, kde budeme jeho jediní návštevníci. Spolu si prečítame príbeh o slonovi a mravcovi\, v ktorom zistíme\, že aj rozdielni spojenci dokážu spolu veľké veci – ako kedysi na Devíne Germáni a Rimania. Zažite Devín v úplne novom svetle – tichý\, večerný\, tajomný. Pre rodiny\, ktoré túžia po zážitku.  \nNepremeškajte toto dobrodružstvo!  \nRodinný program je vhodný pre rodiny s deťmi vo veku 5 – 10 rokov.   \nKapacita podujatia je naplnená.   \nVstupné: Malá rodinná vstupenka (max. 3 osoby) 35 € a veľká rodinná vstupenka (max. 5 osôb) 55 €  \nVstupenky v predaji v pokladnici hradu Devín a online na webe hraddevin.mmb.sk \nPriebeh podujatia:  \n19:00 – Príchod na Devín a stavanie stanov\n Stan si\, prosím\, prineste vlastný  \n19:00 – 20:30 – Opekanie špekačiek a spoločná večera pri ohni\n V prípade špeciálnych diét\, intolerancií alebo vegetariánskych preferencií odporúčame priniesť si vlastné jedlo. Oheň\, špekačky\, horčica a chlieb budú pripravené.  \n20:30 – Tvorivé čítanie s Miriam Halamičkovou\n Spoločne si prečítame príbeh Slon a mravec.   \n22:00 – Nočná pátracia hra po hrade Devín\n S baterkami v ruke budeme hľadať stopy objavovať málo známe zákutia hradu.  \n23:00 – Nočný pokoj a prenocovanie v stanoch \n7:00 – Raňajky a rozlúčka\n Jednoduché raňajky (pečivo\, ovocie\, čaj\, káva) budú pripravené pre každého účastníka. 
URL:https://hraddevin.mmb.sk/podujatie/stanovacka-na-hrade-zazitkove-podujatie/
LOCATION:Hrad Devín\, Muránska 10\, Bratislava\, Slovakia (Slovak Republic)
CATEGORIES:rodinný program,stanovačka na hrade Devín,zážitkové podujatie
ATTACH;FMTTYPE=image/jpeg:https://hraddevin.mmb.sk/wp-content/uploads/2025/06/499249246_1268208708648088_8975074596445534293_n.jpg
ORGANIZER;CN="M%C3%BAzeum mesta Bratislavy":MAILTO:hrad.devin@mmb.sk
END:VEVENT
END:VCALENDAR