BEGIN:VCALENDAR
VERSION:2.0
PRODID:-//Hrad Devín - ECPv6.15.18//NONSGML v1.0//EN
CALSCALE:GREGORIAN
METHOD:PUBLISH
X-WR-CALNAME:Hrad Devín
X-ORIGINAL-URL:https://hraddevin.mmb.sk
X-WR-CALDESC:Udalosti pre Hrad Devín
REFRESH-INTERVAL;VALUE=DURATION:PT1H
X-Robots-Tag:noindex
X-PUBLISHED-TTL:PT1H
BEGIN:VTIMEZONE
TZID:Europe/Bratislava
BEGIN:DAYLIGHT
TZOFFSETFROM:+0100
TZOFFSETTO:+0200
TZNAME:CEST
DTSTART:20240331T010000
END:DAYLIGHT
BEGIN:STANDARD
TZOFFSETFROM:+0200
TZOFFSETTO:+0100
TZNAME:CET
DTSTART:20241027T010000
END:STANDARD
BEGIN:DAYLIGHT
TZOFFSETFROM:+0100
TZOFFSETTO:+0200
TZNAME:CEST
DTSTART:20250330T010000
END:DAYLIGHT
BEGIN:STANDARD
TZOFFSETFROM:+0200
TZOFFSETTO:+0100
TZNAME:CET
DTSTART:20251026T010000
END:STANDARD
BEGIN:DAYLIGHT
TZOFFSETFROM:+0100
TZOFFSETTO:+0200
TZNAME:CEST
DTSTART:20260329T010000
END:DAYLIGHT
BEGIN:STANDARD
TZOFFSETFROM:+0200
TZOFFSETTO:+0100
TZNAME:CET
DTSTART:20261025T010000
END:STANDARD
END:VTIMEZONE
BEGIN:VEVENT
DTSTART;TZID=Europe/Bratislava:20250802T100000
DTEND;TZID=Europe/Bratislava:20250802T190000
DTSTAMP:20260425T051321
CREATED:20250627T130007Z
LAST-MODIFIED:20250627T134705Z
UID:8884-1754128800-1754161200@hraddevin.mmb.sk
SUMMARY:RYTIERI NA DEVÍNE // historický festival
DESCRIPTION:V prvú augustovú sobotu sa na Devíne môžete preniesť do čias dvorných dám\, rytierov\, landsknechtov a ich turnajov.  \nProgram pripravený skupinou Tostabur je plný šermu a lukostreľby\, napínavých vystúpení a tematických scén. Uvidíte tance aj súboje inšpirované tajomným Orientom a v dramatickom predstavení Božie súdy sa dozviete\, ako sa kedysi rozhodovalo o vine a nevine – zbraňami.   \nDeň plný dobrodružstiev prinesie aj rozprávkový príbeh rytiera Sama\, bábkové predstavenie pre najmenších a veľkolepý súboj rytierov o srdce princeznej na koňoch i mečmi. Deň zakončí recitál dobovej hudby a poézie a záverečný ceremoniál plný šermiarskych súbojov a tanca.   \nOkrem vystúpení vás čakajú aj zábavky pre deti\, jazda na koni\, stredoveká strelnica\, remeselné stánky aj chutné občerstvenie. Celý areál hradu bude otvorený na objavovanie.  \nVstupné: základné: 12€ / zľavnené: 6€ / veľké rodinné (2 dospelí a 1-3 deti): 27€ / malé rodinné (1 dospelý a 1-2 deti): 15€ \nVstupenky v predaji v pokladnici hradu Devín a online na webe hraddevin.mmb.sk 
URL:https://hraddevin.mmb.sk/podujatie/rytieri-na-devine-3/
LOCATION:Hrad Devín\, Muránska 10\, Bratislava\, Slovakia (Slovak Republic)
CATEGORIES:historický festival,rodinný program,zážitkové podujatie
ATTACH;FMTTYPE=image/jpeg:https://hraddevin.mmb.sk/wp-content/uploads/2025/06/505357505_1502059474391489_4151057967687295183_n.jpg
END:VEVENT
END:VCALENDAR