BEGIN:VCALENDAR
VERSION:2.0
PRODID:-//Hrad Devín - ECPv6.15.18//NONSGML v1.0//EN
CALSCALE:GREGORIAN
METHOD:PUBLISH
X-ORIGINAL-URL:https://hraddevin.mmb.sk
X-WR-CALDESC:Udalosti pre Hrad Devín
REFRESH-INTERVAL;VALUE=DURATION:PT1H
X-Robots-Tag:noindex
X-PUBLISHED-TTL:PT1H
BEGIN:VTIMEZONE
TZID:Europe/Bratislava
BEGIN:DAYLIGHT
TZOFFSETFROM:+0100
TZOFFSETTO:+0200
TZNAME:CEST
DTSTART:20240331T010000
END:DAYLIGHT
BEGIN:STANDARD
TZOFFSETFROM:+0200
TZOFFSETTO:+0100
TZNAME:CET
DTSTART:20241027T010000
END:STANDARD
BEGIN:DAYLIGHT
TZOFFSETFROM:+0100
TZOFFSETTO:+0200
TZNAME:CEST
DTSTART:20250330T010000
END:DAYLIGHT
BEGIN:STANDARD
TZOFFSETFROM:+0200
TZOFFSETTO:+0100
TZNAME:CET
DTSTART:20251026T010000
END:STANDARD
BEGIN:DAYLIGHT
TZOFFSETFROM:+0100
TZOFFSETTO:+0200
TZNAME:CEST
DTSTART:20260329T010000
END:DAYLIGHT
BEGIN:STANDARD
TZOFFSETFROM:+0200
TZOFFSETTO:+0100
TZNAME:CET
DTSTART:20261025T010000
END:STANDARD
END:VTIMEZONE
BEGIN:VEVENT
DTSTART;TZID=Europe/Bratislava:20250813T203000
DTEND;TZID=Europe/Bratislava:20250813T223000
DTSTAMP:20260425T034520
CREATED:20250729T143717Z
LAST-MODIFIED:20250729T143717Z
UID:8997-1755117000-1755124200@hraddevin.mmb.sk
SUMMARY:LETNÉ KINO NA HRADE DEVÍN: MAČACIA ODYSEA // filmové premietanie
DESCRIPTION:V letnej sezóne 2025 prináša MMB na hrad Devín filmové večery\, počas ktorých zažijú návštevníci a návštevníčky nočnú atmosféru hradu pri premietaní filmovej snímky.  \nMačacia odysea\, Gints Zilbalodis\, Lotyšsko\, Francúzsko\, Belgicko\, 2024\, 85 min  \nZdá sa\, že svet sa blíži ku koncu\, plný pozostatkov ľudskej prítomnosti. Mačka je samotárske zviera\, ale keď jej domov zničí veľká povodeň\, nájde útočisko na lodi obývanej rôznymi druhmi\, s ktorými sa musí spojiť napriek vzájomným odlišnostiam. Na osamelej lodi\, ktorá sa plaví mystickou zaplavenou krajinou\, sa vyrovnávajú s výzvami a nebezpečenstvami\, ktoré prináša adaptácia na tento nový svet. Nechajte sa unášať krásnym príbehom. Bez slov.  \nPodujatie je organizované v spolupráci s FilmEurope.  \nVstupné: dospelí 8 €/deti do 15 rokov 4 €\, na mieste dospelí 10 €/deti do 15 rokov 5 €  \nVstupenky v predaji online a na vstupenky.mmb.sk. 
URL:https://hraddevin.mmb.sk/podujatie/letne-kino-na-hrade-devin-macacia-odysea-filmove-premietanie/
LOCATION:Hrad Devín\, Muránska 10\, Bratislava\, Slovakia (Slovak Republic)
CATEGORIES:film,filmové premietanie,zážitkové podujatie
ATTACH;FMTTYPE=image/jpeg:https://hraddevin.mmb.sk/wp-content/uploads/2025/07/Macacia-Odysea.jpg
ORGANIZER;CN="M%C3%BAzeum mesta Bratislavy":MAILTO:hrad.devin@mmb.sk
END:VEVENT
END:VCALENDAR