BEGIN:VCALENDAR
VERSION:2.0
PRODID:-//Hrad Devín - ECPv6.15.18//NONSGML v1.0//EN
CALSCALE:GREGORIAN
METHOD:PUBLISH
X-ORIGINAL-URL:https://hraddevin.mmb.sk
X-WR-CALDESC:Udalosti pre Hrad Devín
REFRESH-INTERVAL;VALUE=DURATION:PT1H
X-Robots-Tag:noindex
X-PUBLISHED-TTL:PT1H
BEGIN:VTIMEZONE
TZID:Europe/Bratislava
BEGIN:DAYLIGHT
TZOFFSETFROM:+0100
TZOFFSETTO:+0200
TZNAME:CEST
DTSTART:20240331T010000
END:DAYLIGHT
BEGIN:STANDARD
TZOFFSETFROM:+0200
TZOFFSETTO:+0100
TZNAME:CET
DTSTART:20241027T010000
END:STANDARD
BEGIN:DAYLIGHT
TZOFFSETFROM:+0100
TZOFFSETTO:+0200
TZNAME:CEST
DTSTART:20250330T010000
END:DAYLIGHT
BEGIN:STANDARD
TZOFFSETFROM:+0200
TZOFFSETTO:+0100
TZNAME:CET
DTSTART:20251026T010000
END:STANDARD
BEGIN:DAYLIGHT
TZOFFSETFROM:+0100
TZOFFSETTO:+0200
TZNAME:CEST
DTSTART:20260329T010000
END:DAYLIGHT
BEGIN:STANDARD
TZOFFSETFROM:+0200
TZOFFSETTO:+0100
TZNAME:CET
DTSTART:20261025T010000
END:STANDARD
END:VTIMEZONE
BEGIN:VEVENT
DTSTART;TZID=Europe/Bratislava:20250907T183000
DTEND;TZID=Europe/Bratislava:20250907T220000
DTSTAMP:20260425T005948
CREATED:20250904T045150Z
LAST-MODIFIED:20250904T091216Z
UID:9045-1757269800-1757282400@hraddevin.mmb.sk
SUMMARY:ZATMENIE MESIACA NA DEVÍNE // magický zážitok pod nočnou oblohou
DESCRIPTION:Zažite výnimočný večer pod hviezdami! V nedeľu 7. septembra vás srdečne pozývame na pozorovanie zatmenia Mesiaca na hrade Devín\, ktorý bude pri tejto príležitosti otvorený až do 22:00.  \nOd 18:30 sa môžete usadiť na lúke pred Garayovým palácom\, kde bude zatmenie krásne viditeľné voľným okom – bez potreby teleskopov\, v príjemnej atmosfére na dekách pod večernou oblohou.  \nZatmenie začne približne o 19:00\, svoj vrchol dosiahne o 20:11 a skončí okolo 22:00. Súčasťou programu bude aj krátky odborný výklad od členov Slovenského zväzu astronómov.  \nVstupné: 8 € dospelý / 4 € zľavnený (študent\, senior\, ZŤP).  \nVstupenky v predaji v pokladnici hradu Devín a online na webe hraddevin.mmb.sk.  \nV prípade nepriaznivého počasia sa podujatie neuskutoční.  
URL:https://hraddevin.mmb.sk/podujatie/zatmenie-mesiaca-na-devine-zazitkove-podujatie-pod-hviezdami/
LOCATION:Hrad Devín\, Muránska 10\, Bratislava\, Slovakia (Slovak Republic)
ATTACH;FMTTYPE=image/webp:https://hraddevin.mmb.sk/wp-content/uploads/2025/03/Nocna-obloha-nad-hradom-Devin-III.webp
ORGANIZER;CN="M%C3%BAzeum mesta Bratislavy":MAILTO:hrad.devin@mmb.sk
END:VEVENT
END:VCALENDAR