BEGIN:VCALENDAR
VERSION:2.0
PRODID:-//Hrad Devín - ECPv6.15.18//NONSGML v1.0//EN
CALSCALE:GREGORIAN
METHOD:PUBLISH
X-ORIGINAL-URL:https://hraddevin.mmb.sk
X-WR-CALDESC:Udalosti pre Hrad Devín
REFRESH-INTERVAL;VALUE=DURATION:PT1H
X-Robots-Tag:noindex
X-PUBLISHED-TTL:PT1H
BEGIN:VTIMEZONE
TZID:Europe/Bratislava
BEGIN:DAYLIGHT
TZOFFSETFROM:+0100
TZOFFSETTO:+0200
TZNAME:CEST
DTSTART:20240331T010000
END:DAYLIGHT
BEGIN:STANDARD
TZOFFSETFROM:+0200
TZOFFSETTO:+0100
TZNAME:CET
DTSTART:20241027T010000
END:STANDARD
BEGIN:DAYLIGHT
TZOFFSETFROM:+0100
TZOFFSETTO:+0200
TZNAME:CEST
DTSTART:20250330T010000
END:DAYLIGHT
BEGIN:STANDARD
TZOFFSETFROM:+0200
TZOFFSETTO:+0100
TZNAME:CET
DTSTART:20251026T010000
END:STANDARD
BEGIN:DAYLIGHT
TZOFFSETFROM:+0100
TZOFFSETTO:+0200
TZNAME:CEST
DTSTART:20260329T010000
END:DAYLIGHT
BEGIN:STANDARD
TZOFFSETFROM:+0200
TZOFFSETTO:+0100
TZNAME:CET
DTSTART:20261025T010000
END:STANDARD
END:VTIMEZONE
BEGIN:VEVENT
DTSTART;TZID=Europe/Bratislava:20250910T183000
DTEND;TZID=Europe/Bratislava:20250910T200000
DTSTAMP:20260425T005936
CREATED:20250825T115259Z
LAST-MODIFIED:20250825T133827Z
UID:9033-1757529000-1757534400@hraddevin.mmb.sk
SUMMARY:JOGA NA DEVÍNE  // zážitkové podujatie
DESCRIPTION:Zažite večer plný pokoja a vedomého pohybu priamo na hrade Devín. Počas vybraných letných termínov si návštevníci budú môcť oddýchnuť pri jemnom pohybe a krátkej meditácii. V sprievode pomalého „flow“ cvičenia uvoľníte telo aj myseľ – necháte stíchnuť myšlienky\, spomalíte dych a precítite prítomný okamih. Na hrade Devín si spoločne vychutnáme západ slnka\, prehĺbime dych a uvoľníme telo.   \nPartnerom podujatia je Yoga House.  \nVstupné: 8 €\, na mieste 10 €     \nVstupenky v predaji v pokladnici hradu Devín aj na webe vstupenky.mmb.sk.
URL:https://hraddevin.mmb.sk/podujatie/joga-na-devine-zazitkove-podujatie-4/
LOCATION:Hrad Devín\, Muránska 10\, Bratislava\, Slovakia (Slovak Republic)
CATEGORIES:lekcia jógy,zážitkové podujatie
ATTACH;FMTTYPE=image/jpeg:https://hraddevin.mmb.sk/wp-content/uploads/2025/06/Katka_Devin25.jpg
ORGANIZER;CN="M%C3%BAzeum mesta Bratislavy":MAILTO:hrad.devin@mmb.sk
END:VEVENT
END:VCALENDAR