BEGIN:VCALENDAR
VERSION:2.0
PRODID:-//Hrad Devín - ECPv6.15.18//NONSGML v1.0//EN
CALSCALE:GREGORIAN
METHOD:PUBLISH
X-ORIGINAL-URL:https://hraddevin.mmb.sk
X-WR-CALDESC:Udalosti pre Hrad Devín
REFRESH-INTERVAL;VALUE=DURATION:PT1H
X-Robots-Tag:noindex
X-PUBLISHED-TTL:PT1H
BEGIN:VTIMEZONE
TZID:Europe/Bratislava
BEGIN:DAYLIGHT
TZOFFSETFROM:+0100
TZOFFSETTO:+0200
TZNAME:CEST
DTSTART:20240331T010000
END:DAYLIGHT
BEGIN:STANDARD
TZOFFSETFROM:+0200
TZOFFSETTO:+0100
TZNAME:CET
DTSTART:20241027T010000
END:STANDARD
BEGIN:DAYLIGHT
TZOFFSETFROM:+0100
TZOFFSETTO:+0200
TZNAME:CEST
DTSTART:20250330T010000
END:DAYLIGHT
BEGIN:STANDARD
TZOFFSETFROM:+0200
TZOFFSETTO:+0100
TZNAME:CET
DTSTART:20251026T010000
END:STANDARD
BEGIN:DAYLIGHT
TZOFFSETFROM:+0100
TZOFFSETTO:+0200
TZNAME:CEST
DTSTART:20260329T010000
END:DAYLIGHT
BEGIN:STANDARD
TZOFFSETFROM:+0200
TZOFFSETTO:+0100
TZNAME:CET
DTSTART:20261025T010000
END:STANDARD
END:VTIMEZONE
BEGIN:VEVENT
DTSTART;TZID=Europe/Bratislava:20251018T160000
DTEND;TZID=Europe/Bratislava:20251018T193000
DTSTAMP:20260424T232139
CREATED:20250908T082029Z
LAST-MODIFIED:20251027T125732Z
UID:9082-1760803200-1760815800@hraddevin.mmb.sk
SUMMARY:LAMPIÓNOVÝ SPRIEVOD NA HRADE DEVÍN  // LANTERN PARADE AT DEVÍN CASTLE
DESCRIPTION:Zažite magický večer na hrade Devín\, kde sa historické múry rozžiaria stovkami svetiel. Čaká vás podujatie plné radosti\, hravej atmosféry a pestrého programu pre celú rodinu. Prineste si vlastný lampión a staňte sa súčasťou svetelného sprievodu\, ktorý oživí toto výnimočné miesto.   \nTvorivé a zábavné aktivity pre deti budú pre vás pripravené od 16.30 hod. \nLampiónový sprievod sa začne o 19.00 hod.   \nVstupné:  \n– bez lampiónu: 5 €  \n– zvýhodnené vstupné (1 dospelý + 1 dieťa + 1 lampión): 2 €   \nVstupenky sú v predaji v pokladnici hradu Devín.   \nExperience a Magical Evening at Devín Castle. Join us for a magical evening at Devín Castle\, where the historic walls will glow with hundreds of lights. Enjoy a festive event full of joy\, playful atmosphere\, and a diverse program for the whole family. Bring your own lantern and become part of a luminous procession that will bring this extraordinary place to life. \nCreative and fun activities for children start at 4:30 PM.The lantern procession begins at 7:00 PM. \nAdmission:– Without a lantern: €5– Special family ticket (1 adult + 1 child + 1 lantern): €2 \nTickets are available at the Devín Castle ticket office.
URL:https://hraddevin.mmb.sk/podujatie/lampionovy-sprievod-na-hrade-devin-zazitkove-podujatie/
LOCATION:Hrad Devín\, Muránska 10\, Bratislava\, Slovakia (Slovak Republic)
CATEGORIES:rodinný program,zážitkové podujatie
ATTACH;FMTTYPE=image/jpeg:https://hraddevin.mmb.sk/wp-content/uploads/2024/11/hrad-Devin_foto-MMB-Katarina-Selecka.jpg
ORGANIZER;CN="M%C3%BAzeum mesta Bratislavy":MAILTO:hrad.devin@mmb.sk
END:VEVENT
END:VCALENDAR