BEGIN:VCALENDAR
VERSION:2.0
PRODID:-//Hrad Devín - ECPv6.15.18//NONSGML v1.0//EN
CALSCALE:GREGORIAN
METHOD:PUBLISH
X-WR-CALNAME:Hrad Devín
X-ORIGINAL-URL:https://hraddevin.mmb.sk
X-WR-CALDESC:Udalosti pre Hrad Devín
REFRESH-INTERVAL;VALUE=DURATION:PT1H
X-Robots-Tag:noindex
X-PUBLISHED-TTL:PT1H
BEGIN:VTIMEZONE
TZID:Europe/Bratislava
BEGIN:DAYLIGHT
TZOFFSETFROM:+0100
TZOFFSETTO:+0200
TZNAME:CEST
DTSTART:20250330T010000
END:DAYLIGHT
BEGIN:STANDARD
TZOFFSETFROM:+0200
TZOFFSETTO:+0100
TZNAME:CET
DTSTART:20251026T010000
END:STANDARD
BEGIN:DAYLIGHT
TZOFFSETFROM:+0100
TZOFFSETTO:+0200
TZNAME:CEST
DTSTART:20260329T010000
END:DAYLIGHT
BEGIN:STANDARD
TZOFFSETFROM:+0200
TZOFFSETTO:+0100
TZNAME:CET
DTSTART:20261025T010000
END:STANDARD
BEGIN:DAYLIGHT
TZOFFSETFROM:+0100
TZOFFSETTO:+0200
TZNAME:CEST
DTSTART:20270328T010000
END:DAYLIGHT
BEGIN:STANDARD
TZOFFSETFROM:+0200
TZOFFSETTO:+0100
TZNAME:CET
DTSTART:20271031T010000
END:STANDARD
END:VTIMEZONE
BEGIN:VEVENT
DTSTART;TZID=Europe/Bratislava:20260228T153000
DTEND;TZID=Europe/Bratislava:20260228T153000
DTSTAMP:20260424T150346
CREATED:20260211T084654Z
LAST-MODIFIED:20260211T084820Z
UID:9334-1772292600-1772292600@hraddevin.mmb.sk
SUMMARY:HRANICA\, KTORÁ ROZPRÁVA // rodinný program
DESCRIPTION:Vo výstave Pozor\, hranica! na hrade Devín sa prenesieme do čias\, keď okolie hradu nebolo miestom pre výletníkov\, ale prísne stráženou hranicou. Budeme hľadať stopy minulosti\, riešiť úlohy a objavovať príbehy ľudí\, ktorí sa pokúšali hranicu prekročiť. Fotografie\, dokumenty a svedectvá nás zavedú k príbehom miesta\, kde rozhodovala odvaha aj strach. Na konci sa spolu zamyslíme nad tým\, čo znamená sloboda\, bezpečie a pravidlá — a prečo sú tieto hodnoty pre nás dôležité aj dnes.  \nOdporúčaný vek: 10+ (s rodičmi)  \nKapacita podujatia je obmedzená.  \nVstupné:   \nMalá rodinná vstupenka (1 dospelý a 2 deti) – 10\,00 € (5 lístkov);  \nVeľká rodinná vstupenka (2 dospelí 3 deti) – 15\,00 € (5 lístkov)  \nVstupenky v predaji na pokladnici hradu Devín alebo online na mmb.sk 
URL:https://hraddevin.mmb.sk/podujatie/hranica-ktora-rozprava-rodinny-program/
LOCATION:Hrad Devín\, Muránska 10\, Bratislava\, Slovakia (Slovak Republic)
CATEGORIES:rodinný program,zážitkové podujatie
ATTACH;FMTTYPE=image/jpeg:https://hraddevin.mmb.sk/wp-content/uploads/2025/03/Vystava-POZOR-HRANICA_Foto-Dominika-Bolgacova-MMB.jpg
ORGANIZER;CN="M%C3%BAzeum mesta Bratislavy":MAILTO:hrad.devin@mmb.sk
END:VEVENT
END:VCALENDAR