BEGIN:VCALENDAR
VERSION:2.0
PRODID:-//Hrad Devín - ECPv6.15.18//NONSGML v1.0//EN
CALSCALE:GREGORIAN
METHOD:PUBLISH
X-ORIGINAL-URL:https://hraddevin.mmb.sk
X-WR-CALDESC:Udalosti pre Hrad Devín
REFRESH-INTERVAL;VALUE=DURATION:PT1H
X-Robots-Tag:noindex
X-PUBLISHED-TTL:PT1H
BEGIN:VTIMEZONE
TZID:Europe/Bratislava
BEGIN:DAYLIGHT
TZOFFSETFROM:+0100
TZOFFSETTO:+0200
TZNAME:CEST
DTSTART:20250330T010000
END:DAYLIGHT
BEGIN:STANDARD
TZOFFSETFROM:+0200
TZOFFSETTO:+0100
TZNAME:CET
DTSTART:20251026T010000
END:STANDARD
BEGIN:DAYLIGHT
TZOFFSETFROM:+0100
TZOFFSETTO:+0200
TZNAME:CEST
DTSTART:20260329T010000
END:DAYLIGHT
BEGIN:STANDARD
TZOFFSETFROM:+0200
TZOFFSETTO:+0100
TZNAME:CET
DTSTART:20261025T010000
END:STANDARD
BEGIN:DAYLIGHT
TZOFFSETFROM:+0100
TZOFFSETTO:+0200
TZNAME:CEST
DTSTART:20270328T010000
END:DAYLIGHT
BEGIN:STANDARD
TZOFFSETFROM:+0200
TZOFFSETTO:+0100
TZNAME:CET
DTSTART:20271031T010000
END:STANDARD
END:VTIMEZONE
BEGIN:VEVENT
DTSTART;TZID=Europe/Bratislava:20260314T163000
DTEND;TZID=Europe/Bratislava:20260314T180000
DTSTAMP:20260424T150641
CREATED:20260225T133316Z
LAST-MODIFIED:20260226T143740Z
UID:9337-1773505800-1773511200@hraddevin.mmb.sk
SUMMARY:OD TOTALITY K TOTALITE // komentovaná prehliadka
DESCRIPTION:Ako sa mení význam historickej pamiatky v čase\, keď sa mení režim? Počas prehliadky si priblížime obdobie\, keď sa koncom 30. rokov 20. storočia Devín dostal pod nemeckú správu a stal sa súčasťou Tretej ríše. Povieme si\, ako sa veľká politika premietla do podoby hradu a jeho využitia\, ktorý sa mu v tom čase pripisoval. V druhej časti sa zameriame na čas po oslobodení v roku 1945 a na zmeny\, ktoré priniesol komunistický prevrat vo februári 1948. Návštevníci a návštevníčky sa dozvedia\, ako sa menil vzťah k hradu\, jeho miesto v spoločnosti a spôsob\, akým bol interpretovaný.  \nVstupné: 5 €\,  zľavnené 3 €\nVstupenky v predaji v pokladnici hradu Devín alebo online na mmb.sk.
URL:https://hraddevin.mmb.sk/podujatie/od-totality-k-totalite-komentovana-prehliadka/
LOCATION:Hrad Devín\, Muránska 10\, Bratislava\, Slovakia (Slovak Republic)
CATEGORIES:komentovaná prehliadka
ATTACH;FMTTYPE=image/jpeg:https://hraddevin.mmb.sk/wp-content/uploads/2024/08/2404_25_Pozor-Hranica_Devin_Online_Media-1-2.jpg
ORGANIZER;CN="M%C3%BAzeum mesta Bratislavy":MAILTO:hrad.devin@mmb.sk
END:VEVENT
END:VCALENDAR