BEGIN:VCALENDAR
VERSION:2.0
PRODID:-//Hrad Devín - ECPv6.15.18//NONSGML v1.0//EN
CALSCALE:GREGORIAN
METHOD:PUBLISH
X-WR-CALNAME:Hrad Devín
X-ORIGINAL-URL:https://hraddevin.mmb.sk
X-WR-CALDESC:Udalosti pre Hrad Devín
REFRESH-INTERVAL;VALUE=DURATION:PT1H
X-Robots-Tag:noindex
X-PUBLISHED-TTL:PT1H
BEGIN:VTIMEZONE
TZID:Europe/Bratislava
BEGIN:DAYLIGHT
TZOFFSETFROM:+0100
TZOFFSETTO:+0200
TZNAME:CEST
DTSTART:20230326T010000
END:DAYLIGHT
BEGIN:STANDARD
TZOFFSETFROM:+0200
TZOFFSETTO:+0100
TZNAME:CET
DTSTART:20231029T010000
END:STANDARD
BEGIN:DAYLIGHT
TZOFFSETFROM:+0100
TZOFFSETTO:+0200
TZNAME:CEST
DTSTART:20240331T010000
END:DAYLIGHT
BEGIN:STANDARD
TZOFFSETFROM:+0200
TZOFFSETTO:+0100
TZNAME:CET
DTSTART:20241027T010000
END:STANDARD
BEGIN:DAYLIGHT
TZOFFSETFROM:+0100
TZOFFSETTO:+0200
TZNAME:CEST
DTSTART:20250330T010000
END:DAYLIGHT
BEGIN:STANDARD
TZOFFSETFROM:+0200
TZOFFSETTO:+0100
TZNAME:CET
DTSTART:20251026T010000
END:STANDARD
END:VTIMEZONE
BEGIN:VEVENT
DTSTART;TZID=Europe/Bratislava:20241011T183000
DTEND;TZID=Europe/Bratislava:20241011T220000
DTSTAMP:20260425T183621
CREATED:20240919T115705Z
LAST-MODIFIED:20241001T115835Z
UID:7617-1728671400-1728684000@hraddevin.mmb.sk
SUMMARY:Nočná obloha nad hradom Devín // NIGHT SKY ABOVE DEVÍN CASTLE
DESCRIPTION:SK: \nPozorovali ste už niekedy vesmír profesionálnym teleskopom? O tento zážitok sa postaráme v piatok 11. októbra o 19.00 v exteriéroch hradu Devín v spolupráci s profesionálmi zo Slovenského zväzu astronómov. Za ich výkladu a asistencie budete mať možnosť pozorovať nočnú oblohu a namieriť teleskop na vesmírne telesá\, napríklad Jupiter\, Mesiac\, dvojhviezdy\, ako i objekty hlbokého vesmíru – galaxie či hmloviny. \nNa podujatie si treba priniesť vlastné svietidlo\, baterku alebo čelovku s funkciou červeného svetla. \nHarmonogram:\n18.30 – vstup pre verejnosť\n19.30 – začiatok komentovanej prehliadky nočnej oblohy\n20.00 – začiatok pozorovania na stanovištiach\n22.00 – plánované ukončenie \nVstupenky zakúpite v pokladnici hradu Devín alebo na GoOut.net  \nEN: \nHave you ever observed the universe through a professional telescope? Join us on Friday\, October 11\, at 7:00 PM at Devín Castle for an event prepared in collaboration with professionals from the Slovak Astronomical Society. With their guidance and assistance\, you’ll have the opportunity to observe the night sky and aim the telescope at celestial objects such as Jupiter\, the Moon\, binary stars\, as well as deep-space objects—galaxies and nebulae.\nPlease bring your own red-light flashlight or headlamp. \nSchedule:\n6:30 PM – Entrance opens to the public\n7:30 PM – Start of the guided tour of the night sky\n8:00 PM – Stargazing at designated stations\n10:00 PM – Scheduled end\nAdmission: €8 \nTickets are available at the Devín Castle cashier’s office or at GoOut.net 
URL:https://hraddevin.mmb.sk/podujatie/nocna-obloha-nad-hradom-devin-iii/
LOCATION:Hrad Devín\, Muránska 10\, Bratislava\, Slovakia (Slovak Republic)
CATEGORIES:pozorovanie hviezd
ATTACH;FMTTYPE=image/jpeg:https://hraddevin.mmb.sk/wp-content/uploads/2024/09/2409_64_Devin_Nocna-obloha-nad-hradom_IG_Feed_1-0_08.jpg
ORGANIZER;CN="M%C3%BAzeum mesta Bratislavy":MAILTO:hrad.devin@mmb.sk
END:VEVENT
BEGIN:VEVENT
DTSTART;TZID=Europe/Bratislava:20241013T140000
DTEND;TZID=Europe/Bratislava:20241013T160000
DTSTAMP:20260425T183621
CREATED:20240919T121240Z
LAST-MODIFIED:20241001T120543Z
UID:7627-1728828000-1728835200@hraddevin.mmb.sk
SUMMARY:Rímska veslica na hrade Devín // ROMAN ROWBOAT AT DEVÍN CASTLE
DESCRIPTION:SK:\n\nPri príležitosti priplávania rímskej veslice do Devína sme si pre vás na hrade pripravili zaujímavú aktivitu. Zastavte sa a vytvorte si spolu s našimi lektorkami svoju vlastnú loďku.\nVstupné podľa cenníka hradu Devín. \n  \nEN: \nFamily program. \nIn celebration of the arrival of a Roman rowboat in Devín\, we have prepared an exciting activity for you at the castle. Stop by and create your own little boat with the help of our instructors.\nAdmission: According to the Devín Castle admission fees list.
URL:https://hraddevin.mmb.sk/podujatie/rimska-veslica-na-devine/
LOCATION:Hrad Devín\, Muránska 10\, Bratislava\, Slovakia (Slovak Republic)
CATEGORIES:rodinný program
ATTACH;FMTTYPE=image/jpeg:https://hraddevin.mmb.sk/wp-content/uploads/2024/09/Foto_Lujza-Stopkova_3.jpg
ORGANIZER;CN="M%C3%BAzeum mesta Bratislavy":MAILTO:hrad.devin@mmb.sk
END:VEVENT
BEGIN:VEVENT
DTSTART;TZID=Europe/Bratislava:20241017T170000
DTEND;TZID=Europe/Bratislava:20241017T190000
DTSTAMP:20260425T183621
CREATED:20240919T123212Z
LAST-MODIFIED:20240919T124324Z
UID:7631-1729184400-1729191600@hraddevin.mmb.sk
SUMMARY:PREHLIADKA V SLOVENSKOM POSUNKOVOM JAZYKU: HRAD DEVÍN
DESCRIPTION:Už desiatky rokov na hrade prebieha archeologický výskum\, na základe ktorého vieme\, že hrad tu stojí od 13. storočia. Ale prečo vznikol práve na tomto mieste? Devín bol prirodzenou križovatkou pre ľudí aj zvieratá a vystriedali sa tu celé civilizácie. Ktoré to boli? Príďte s nami spoznať bohatú históriu hradu Devín a jeho okolia. \nKomentovaná prehliadka na hrade Devín bude tlmočená do slovenského posunkového jazyka pre nepočujúcich a ľudí so sluchovým postihnutím. Prosíme preto\, aby ste umožnili nepočujúcim osobám dostatočný výhľad na tlmočiacu osobu. \nProgram pripravujeme v spolupráci s organizáciou Myslím – centrum kultúry Nepočujúcich.\nKapacita podujatia je obmedzená. \nVstupné: základné vstupné 3 € / zľavnené 1\,50 €\nVstupenky v predaji v pokladnici hradu Devín a na GoOut.net.
URL:https://hraddevin.mmb.sk/podujatie/prehliadka-v-slovenskom-posunkovom-jazyku-hrad-devin/
LOCATION:Hrad Devín\, Muránska 10\, Bratislava\, Slovakia (Slovak Republic)
CATEGORIES:komentovaná prechádzka,v posunkovom jazyku
ATTACH;FMTTYPE=image/jpeg:https://hraddevin.mmb.sk/wp-content/uploads/2024/09/Foto_DominikaBolgacova_10.jpg
ORGANIZER;CN="M%C3%BAzeum mesta Bratislavy":MAILTO:hrad.devin@mmb.sk
END:VEVENT
BEGIN:VEVENT
DTSTART;TZID=Europe/Bratislava:20241018T180000
DTEND;TZID=Europe/Bratislava:20241018T210000
DTSTAMP:20260425T183621
CREATED:20240626T172358Z
LAST-MODIFIED:20241001T115516Z
UID:6803-1729274400-1729285200@hraddevin.mmb.sk
SUMMARY:Sun(DJ)set: Nightcall
DESCRIPTION:SK: \nPodvečer na Devíne vám aj tento rok počas letných mesiacov obohatí Sun(DJ)set vždy s inou hudobnou „situáciou“ na rôznych unikátnych miestach hradného areálu.\nOkrem dobrej hudby si užijete atmosféru hradu Devín pri západe slnka a scenériu okolitej krajiny. V septembri sa predstaví Nightcall. \nPríchod do areálu hradu Devín bude možný už o 18.00\, podujatie sa začne o 18.30.  Po skončení máte jedinečnú možnosť ostať v areáli hradu aj po otváracích hodinách. \nVstupné: 10 € v predpredaji/12 € na mieste.\nVstupenky v predaji v pokladnici hradu Devín alebo čoskoro na GoOut.net. \nUPOZORNENIA:\nFajčenie v priestore podujatia je zakázané\, prosíme\, dodržujte pokyny organizátorov.\nUpozorňujeme návštevníkov a návštevníčky\, že v priebehu podujatia bude vyhotovený fotografický a/alebo video záznam. \nEN: \nOnce again this year\, Devín Castle invites you to spend your summer evenings at Sun(DJ)set events\, each featuring a unique musical „situation“ at various unique locations within the castle grounds. Besides great music\, enjoy the atmosphere of Devín Castle at sunset and the scenery of the surrounding landscape. In September\, you will get a chance to see Nightcall. \nGates open at 6:00 PM. The event starts at 6:30 PM. \nTickets: €10 in advance / €12 at the door \nGet tickets either at the Devín Castle ticket counter or soon at GoOut.net.
URL:https://hraddevin.mmb.sk/podujatie/sundjset-nightcall/
LOCATION:Hrad Devín\, Muránska 10\, Bratislava\, Slovakia (Slovak Republic)
CATEGORIES:DJ set
ATTACH;FMTTYPE=image/jpeg:https://hraddevin.mmb.sk/wp-content/uploads/2024/06/DSC00785.jpg
ORGANIZER;CN="M%C3%BAzeum mesta Bratislavy":MAILTO:hrad.devin@mmb.sk
END:VEVENT
BEGIN:VEVENT
DTSTART;TZID=Europe/Bratislava:20241025T170000
DTEND;TZID=Europe/Bratislava:20241025T190000
DTSTAMP:20260425T183621
CREATED:20240919T121728Z
LAST-MODIFIED:20241001T120831Z
UID:7629-1729875600-1729882800@hraddevin.mmb.sk
SUMMARY:Lampiónový sprievod // LANTERN PARADE
DESCRIPTION:SK: \nLampiónový sprievod na hrade Devín je jedinečná večerná udalosť. Prineste si svoje lampióny a pomôžte rozžiariť toto historické miesto.\nTento rok sme si pripravili aktivity pre rodiny s deťmi. Príďte si uloviť jabĺčko\, vyrobiť sviečku\, zahrať si rôzne hry a nasávať jesennú atmosféru hradu Devín.\nPripravené bude aj ohnisko na opečenie svojho úlovku alebo maršmelovu a stánok so sezónnymi horúcimi nápojmi. \nAktivity sú k dispozícii od 17.00. Lampiónový sprievod sa začne zo stredného hradu o 19.00.\nSpolupráca s mestskou časťou Devín. \nVSTUPNÉ:\n✹ Bez lampiónu: 5 €\n✹ Zadarmo: pre skupinu v zložení 1 dospelý + 1 dieťa + 1 lampión \nVstupenky v predaji v pokladnici hradu Devín. \n  \nEN: \nThe Lantern Parade at Devín Castle is a unique evening event. Bring your lanterns and help illuminate this historic site. This year\, we have also prepared activities for families with children. Come enjoy apple bobbing\, make a candle\, play various games\, and soak in the fall atmosphere of Devín Castle. There will also be a campfire for roasting your catch or marshmallows\, along with a stand serving seasonal hot beverages. \nActivities begin at 5:00 PM\, and the lantern parade will start from the middle castle at 7:00 PM.\nThis event is organized in collaboration with the Devín municipality. \nADMISSION:\n✹ Without a lantern: €5\n✹ Free: For groups consisting of 1 adult + 1 child + 1 lantern \nTickets are available at the Devín Castle ticket office.
URL:https://hraddevin.mmb.sk/podujatie/lampionovy-sprievod-na-hrade-devin-2/
LOCATION:Hrad Devín\, Muránska 10\, Bratislava\, Slovakia (Slovak Republic)
CATEGORIES:zážitkové podujatie
ATTACH;FMTTYPE=image/jpeg:https://hraddevin.mmb.sk/wp-content/uploads/2024/09/Foto_Barbara-Debrecka2.jpg
ORGANIZER;CN="M%C3%BAzeum mesta Bratislavy":MAILTO:hrad.devin@mmb.sk
END:VEVENT
BEGIN:VEVENT
DTSTART;TZID=Europe/Bratislava:20241029T173000
DTEND;TZID=Europe/Bratislava:20241029T190000
DTSTAMP:20260425T183621
CREATED:20240919T124845Z
LAST-MODIFIED:20240919T124845Z
UID:7636-1730223000-1730228400@hraddevin.mmb.sk
SUMMARY:DEVÍN AKO SÚČASŤ ŽELEZNEJ OPONY // kurátorský výklad
DESCRIPTION:Letnú sezónu na hrade Devín ukončíme kurátorským sprievodom výstavy Pozor\, hranica! Devín v železnej opone 1948 – 1989. Podujatím si pripomíname 35. výročie pádu komunistického režimu v Československu. Dozviete sa\, ako vznikla\, fungovala a zanikla železná opona pod hradom Devín a ako ovplyvňovala dianie na samotnom hrade a v mestskej časti. Venovať sa budeme podobe vojenských opatrení na hraniciach s Rakúskom\, na výstave nájdete aj dobové dokumenty mapujúce konkrétne pokusy o útek práve cez devínsky úsek štátnej hranice. \nVstupné: 5 €\nVstupenky v predaji v pokladnici hradu Devín alebo na GoOut.net.
URL:https://hraddevin.mmb.sk/podujatie/devin-ako-sucast-zeleznej-opony-kuratorsky-vyklad/
LOCATION:Hrad Devín\, Muránska 10\, Bratislava\, Slovakia (Slovak Republic)
CATEGORIES:kurátorský výklad
ATTACH;FMTTYPE=image/jpeg:https://hraddevin.mmb.sk/wp-content/uploads/2024/08/BA_V_2674_Devin_1964_-11.jpg
ORGANIZER;CN="M%C3%BAzeum mesta Bratislavy":MAILTO:hrad.devin@mmb.sk
END:VEVENT
END:VCALENDAR