BEGIN:VCALENDAR
VERSION:2.0
PRODID:-//Hrad Devín - ECPv6.15.18//NONSGML v1.0//EN
CALSCALE:GREGORIAN
METHOD:PUBLISH
X-WR-CALNAME:Hrad Devín
X-ORIGINAL-URL:https://hraddevin.mmb.sk
X-WR-CALDESC:Udalosti pre Hrad Devín
REFRESH-INTERVAL;VALUE=DURATION:PT1H
X-Robots-Tag:noindex
X-PUBLISHED-TTL:PT1H
BEGIN:VTIMEZONE
TZID:Europe/Bratislava
BEGIN:DAYLIGHT
TZOFFSETFROM:+0100
TZOFFSETTO:+0200
TZNAME:CEST
DTSTART:20230326T010000
END:DAYLIGHT
BEGIN:STANDARD
TZOFFSETFROM:+0200
TZOFFSETTO:+0100
TZNAME:CET
DTSTART:20231029T010000
END:STANDARD
BEGIN:DAYLIGHT
TZOFFSETFROM:+0100
TZOFFSETTO:+0200
TZNAME:CEST
DTSTART:20240331T010000
END:DAYLIGHT
BEGIN:STANDARD
TZOFFSETFROM:+0200
TZOFFSETTO:+0100
TZNAME:CET
DTSTART:20241027T010000
END:STANDARD
BEGIN:DAYLIGHT
TZOFFSETFROM:+0100
TZOFFSETTO:+0200
TZNAME:CEST
DTSTART:20250330T010000
END:DAYLIGHT
BEGIN:STANDARD
TZOFFSETFROM:+0200
TZOFFSETTO:+0100
TZNAME:CET
DTSTART:20251026T010000
END:STANDARD
END:VTIMEZONE
BEGIN:VEVENT
DTSTART;TZID=Europe/Bratislava:20241109T100000
DTEND;TZID=Europe/Bratislava:20241109T170000
DTSTAMP:20260425T155933
CREATED:20241023T131634Z
LAST-MODIFIED:20241030T170908Z
UID:7709-1731146400-1731171600@hraddevin.mmb.sk
SUMMARY:OD ŽELEZNEJ OPONY K SLOBODE // komentovaná prechádzka
DESCRIPTION:V spolupráci s Festivalom slobody sme si pripravili komentovanú prehliadku okolia hradu Devín ako významného miesta ležiaceho na bývalej železnej opone. Prehliadkou vás bude sprevádzať riaditeľ Archívu ÚPN Peter Mikle. Priblíži vám život pod hradom v rokoch 1950 –1989\, keď súčasťou jeho okolia bola pohraničná stráž so zbraňami\, ostnaté drôty\, míny a smrteľné pasce pripravené pre ľudí\, ktorí sa pokúsili ujsť za slobodou na druhú stranu rieky. Súčasťou prehliadky je aj filmové premietanie dokumentu November + 20 prezentujúceho pohľad na Nežnú revolúciu a udalosti roku 1989\, ktoré formovali vývoj našej krajiny a cestu k slobode.   \nPrehliadka sa začne pri Bráne slobody v troch časoch – o 10.00\, 13.00 a o 15.00.\nV hradnom areáli bude po prehliadke k dispozícii horúci čaj.  \nVstupné: zadarmo s registráciou vopred na GoOut.net.\nKapacita podujatia je obmedzená.
URL:https://hraddevin.mmb.sk/podujatie/od-zeleznej-opony-k-slobode-sucast-festivalu-slobody/
LOCATION:Hrad Devín\, Muránska 10\, Bratislava\, Slovakia (Slovak Republic)
CATEGORIES:komentovaná prechádzka
ATTACH;FMTTYPE=image/jpeg:https://hraddevin.mmb.sk/wp-content/uploads/2024/10/2410_75_Devin_Vystava_Komentovana_FB_EVENT_1-0.jpg
ORGANIZER;CN="M%C3%BAzeum mesta Bratislavy":MAILTO:hrad.devin@mmb.sk
END:VEVENT
END:VCALENDAR