BEGIN:VCALENDAR
VERSION:2.0
PRODID:-//Hrad Devín - ECPv6.15.18//NONSGML v1.0//EN
CALSCALE:GREGORIAN
METHOD:PUBLISH
X-WR-CALNAME:Hrad Devín
X-ORIGINAL-URL:https://hraddevin.mmb.sk
X-WR-CALDESC:Udalosti pre Hrad Devín
REFRESH-INTERVAL;VALUE=DURATION:PT1H
X-Robots-Tag:noindex
X-PUBLISHED-TTL:PT1H
BEGIN:VTIMEZONE
TZID:Europe/Bratislava
BEGIN:DAYLIGHT
TZOFFSETFROM:+0100
TZOFFSETTO:+0200
TZNAME:CEST
DTSTART:20240331T010000
END:DAYLIGHT
BEGIN:STANDARD
TZOFFSETFROM:+0200
TZOFFSETTO:+0100
TZNAME:CET
DTSTART:20241027T010000
END:STANDARD
BEGIN:DAYLIGHT
TZOFFSETFROM:+0100
TZOFFSETTO:+0200
TZNAME:CEST
DTSTART:20250330T010000
END:DAYLIGHT
BEGIN:STANDARD
TZOFFSETFROM:+0200
TZOFFSETTO:+0100
TZNAME:CET
DTSTART:20251026T010000
END:STANDARD
BEGIN:DAYLIGHT
TZOFFSETFROM:+0100
TZOFFSETTO:+0200
TZNAME:CEST
DTSTART:20260329T010000
END:DAYLIGHT
BEGIN:STANDARD
TZOFFSETFROM:+0200
TZOFFSETTO:+0100
TZNAME:CET
DTSTART:20261025T010000
END:STANDARD
END:VTIMEZONE
BEGIN:VEVENT
DTSTART;TZID=Europe/Bratislava:20250607T100000
DTEND;TZID=Europe/Bratislava:20250607T190000
DTSTAMP:20260425T034401
CREATED:20250415T110409Z
LAST-MODIFIED:20250514T115120Z
UID:8308-1749290400-1749322800@hraddevin.mmb.sk
SUMMARY:RYTIERI NA DEVÍNE // KNIGHTS AT DEVÍN
DESCRIPTION:V júni odštartujeme našu rytiersku sezónu roku 2025 na hrade Devín. V prvú júnovú sobotu sa pomyselným strojom času vrátime do obdobia stredoveku. Čo všetko vás čaká? \n10\,00 – Otvorenie brán hradu Devín \n11\,00 – Otvárací ceremoniál plný šermu a lukostreľby \n12\,00 – Predstavenie „Božie súdy“ \nAko sa v stredoveku riešili súdne spory? Napríklad aj súbojmi na život a na smrť. \n13\,00 – Orientálne tance \nTance s atmosférou bájneho orientu so závojmi či šabľami. \n14\,00 – Predstavenie „Tajomstvo slovanského meča“ \nPríbeh zo slovanského prostredia\, ktorý súvisí s archeologickým nálezom starého meča. \n15\,00 – Rozprávkový príbeh o rytierovi Samovi \nBábkové divadlo o putovaní rytiera a jeho kamaráta – zajačika. \n16\,00 – Turnaj odvážnych \nStredovekom inšpirovaný rozprávkový príbeh\, kde sa o ruku krásnej princeznej uchádzajú udatní rytieri na koňoch ale aj zlý a nikým nepozvaný rytier. \n17\,30 – Recitál dobovej hudby\, prózy a poézie \nVýber prózy a poézie v podaní šermiarskeho majstra Petra Kozu doplnený o živý hudobný podklad z daného obdobia. \n18\,30 – Záverečný ceremoniál plný šermiarskych súbojov\, tanca a vlajúcich zástav \n19\,00 – Ukončenie podujatia a uzavretie hradu \nPočas celého dňa budú k dispozícii všakovaké zábavky a kratochvíle:\nstrelnica s lukmi\, kušami a vrhaním nožov\nvozenie sa na živom a drevenom koni\ndetský kútik s rôznymi hrami (katapult\, chodúle\, hádzanie na jednorožca krúžkami\, hádzanie krúžkov na meče\, hádzanie loptičiek do draka)\nremeselné a predajné stánky\, stánok s občerstvením\nPo zakúpení lístka si okrem vystúpení môžete pozrieť aj celý areál hradu so všetkými jeho krásnymi zákutiami a zaujímavými expozíciami. \nOrganizátorom podujatia je šermiarska skupina TOSTABUR v spolupráci s Múzeom mesta Bratislavy. \nVstupenky: základné: 12€ / zľavnené: 6€ / veľké rodinné (2 dospelí a 1-3 deti): 27€ / malé rodinné (1 dospelý a 1-2 deti): 15€ \nVstupenky: v predaji v pokladnici hradu Devín / online na webe hraddevin.mmb.sk \nOrganizátor má právo vyžiadať si k nahliadnutiu doklad\, ktorý oprávňuje kupca na kúpu zľavneného lístka (napr. študentská karta ISIC\, seniori občiansky preukaz). \nEN \nIn June\, we’re kicking off our 2025 knightly season at Devín Castle. On the first Saturday of June\, we’ll travel back in time to the Middle Ages. What awaits you? An opening ceremony full of sword fighting and archery\, the show “God’s Judgments”\, oriental dances\, a recital of period music\, prose\, and poetry— and much more! \nThe event is organized by the historical fencing group TOSTABUR in cooperation with the Bratislava City Museum. \nAdmission: Standard: €12 / Discounted: €6 / Large family ticket (2 adults and 1–3 children): €27 / Small family ticket (1 adult and 1–2 children): €15 \nTickets: Available at the Devín Castle ticket office or online at hraddevin.mmb.sk \nThe organizer reserves the right to request proof of eligibility for discounted tickets (e.g.\, ISIC student card\, ID for seniors). \n 
URL:https://hraddevin.mmb.sk/podujatie/rytieri-na-devine-knights-at-devin/
LOCATION:Hrad Devín\, Muránska 10\, Bratislava\, Slovakia (Slovak Republic)
CATEGORIES:historický festival
ATTACH;FMTTYPE=image/jpeg:https://hraddevin.mmb.sk/wp-content/uploads/2025/04/Foto_Rytieri-na-Devine.jpg
END:VEVENT
BEGIN:VEVENT
DTSTART;TZID=Europe/Bratislava:20250614T100000
DTEND;TZID=Europe/Bratislava:20250614T220000
DTSTAMP:20260425T034401
CREATED:20250509T115156Z
LAST-MODIFIED:20250509T115409Z
UID:8340-1749895200-1749938400@hraddevin.mmb.sk
SUMMARY:SÚTOK // multižánrový festival Múzea mesta Bratislavy
DESCRIPTION:∼ SÚTOK ∼ kde história\, umenie a príroda prúdia spolu ∼\nIkonický hrad Devín. Miesto\, kde sa stretávajú rieky Dunaj a Morava. Práve tu ožije festival SÚTOK už 14. 6. 2025. Predstavujeme nový multižánrový festival Múzea mesta Bratislavy. Na hrade Devín sa 14. júna prepojí spoznávanie histórie s udržateľnosťou\, hudbou a zábavou.\n\n∼ ČO VÁS ČAKÁ ∼ Ponorte sa do pútavých prednášok\, diskusií\, komentovaných prehliadok a interaktívnych workshopov\, vďaka ktorým spoznáte nielen históriu hradu Devín\, ale aj jeho kultúrny význam.\nZažite podmanivé hudobné vystúpenia vrátane headlinera FVLCRVM\, Ktorý predstaví svoju šou v kulisách úžasných výhľadov a hradieb.\nSúčasťou festivalu bude aj diskusia o význame hradu Devín v našej kultúre a o tom\, ako formoval a stále formuje naše vnímanie národnej identity. Rozoberieme aj aktuálnu tému – aký bol a aký bude devínsky amfiteáter. Nebude chýbať ani komunitný rozmer – ochutnávky lokálneho vína a devínskeho ríbezláka v originálnom Ríbezbare.\nPre rodiny s deťmi budú pripravené hry a tvorivé aktivity. Čakajú na vás aj relaxačné zóny v prírode\, kde si môžete užiť festivalovú atmosféru v pokoji a pohodlí. Zapíšte si do kalendára dátum 14. 6. a sledujte nás pre ďalšie informácie.\n\nCelkový program predstavíme už čoskoro na webstránke festivalu.\nLístky si môžete zakúpiť tu.\n\nHlavný mediálny partner: Denník SME\nMediálni partneri: Rádio FM\, Rádio Devín\, Historická Revue\, Kapitál\, StartItUp.sk\, Interez.sk\, IN.BA\, Citylife.sk
URL:https://hraddevin.mmb.sk/podujatie/sutok-multizanrovy-festival-muzea-mesta-bratislavy/
LOCATION:Hrad Devín\, Muránska 10\, Bratislava\, Slovakia (Slovak Republic)
CATEGORIES:festival
ATTACH;FMTTYPE=image/jpeg:https://hraddevin.mmb.sk/wp-content/uploads/2025/05/Sutok.jpg
ORGANIZER;CN="M%C3%BAzeum mesta Bratislavy":MAILTO:hrad.devin@mmb.sk
END:VEVENT
BEGIN:VEVENT
DTSTART;TZID=Europe/Bratislava:20250621T100000
DTEND;TZID=Europe/Bratislava:20250621T170000
DTSTAMP:20260425T034401
CREATED:20250617T104708Z
LAST-MODIFIED:20250617T113317Z
UID:8650-1750500000-1750525200@hraddevin.mmb.sk
SUMMARY:Cyrilometodské dobové slávnosti v Devíne // zážitkové podujatie
DESCRIPTION:V sobotu 21. júna sa hrad Devín stane súčasťou podujatia venovaného tradícii a odkazu sv. Cyrila a Metoda. Tešiť sa môžete na program plný hudby\, remesiel a aktivít pre deti. Múzeum mesta Bratislavy sa zapojí komentovanou prehliadkou a workshopom. Príďte stráviť deň plný zaujímavých zážitkov!    \nTEPANÉ PRÍBEHY: PLAKETA AKO Z DÁVNYCH ČIAS   \nVráťte sa s nami do čias dávnych Slovanov a objavte krásu ranostredovekých kovových plakiet\, aké poznáme napríklad z Bojnej. Počas tohto tvorivého workshopu sa deti zoznámia s technikou kovotepectva – vlastnoručne si vytvoria jednoduchú plaketu z plechového kruhu pomocou paličky a vlastnej fantázie.   \nNa mieste budú pripravené obrázky historických plakiet a ďalších motívov ranostredovekého umenia\, ktoré poslúžia ako inšpirácia. Malí tvorcovia tak budú môcť nielen rozvíjať svoje zručnosti\, ale aj spoznať kus našej histórie hravou a zážitkovou formou. \nWorkshop sa bude konať v priestoroch Výstavného pavilónu na hrade Devín.   \nS platnou vstupenkou (podľa nášho aktuálneho cenníka) na hrad Devín je workshop zdarma. \nBohatý sprievodný program sa bude už tradične odohrávať na námestí pred domom kultúry\, v kostole\, na záhrade kostola či na hrade Devín. Viac informácií o celom programe nájdete tu. \nOrganizátori: Cyrilo-metodská cesta\, MČ Devín\, Bratislavský kraj\, Slovenský dom Centrope\, Múzeum mesta Bratislava
URL:https://hraddevin.mmb.sk/podujatie/cyrilometodske-dobove-slavnosti-v-devine-zazitkove-podujatie/
LOCATION:Hrad Devín\, Muránska 10\, Bratislava\, Slovakia (Slovak Republic)
CATEGORIES:zážitkové podujatie
ATTACH;FMTTYPE=image/jpeg:https://hraddevin.mmb.sk/wp-content/uploads/2025/06/DoboveSlavnosti_FBpost.jpg
ORGANIZER;CN="M%C4%8C Dev%C3%ADn":MAILTO:info@devin.sk
END:VEVENT
BEGIN:VEVENT
DTSTART;TZID=Europe/Bratislava:20250621T130000
DTEND;TZID=Europe/Bratislava:20250621T150000
DTSTAMP:20260425T034401
CREATED:20250617T105537Z
LAST-MODIFIED:20250617T105537Z
UID:8655-1750510800-1750518000@hraddevin.mmb.sk
SUMMARY:Cyrilometodské dobové slávnosti v Devíne // komentovaná prehliadka
DESCRIPTION:V sobotu 21. júna sa hrad Devín stane súčasťou podujatia venovaného tradícii a odkazu sv. Cyrila a Metoda. Tešiť sa môžete na program plný hudby\, remesiel a aktivít pre deti. Múzeum mesta Bratislavy sa zapojí komentovanou prehliadkou a workshopom. Príďte stráviť deň plný zaujímavých zážitkov! \nPREČO PRÁVE DEVÍN?    \nKomentovaná prehliadka vás zavedie na zaujímavé miesta hradu Devín\, ktorý v 19. storočí zohral významnú úlohu ako zdroj inšpirácie pre básnikov\, spisovateľov\, umelcov a predstaviteľov národného obrodenia.   \nPrečo sa práve Devín stal symbolickým miestom pre štúrovcov? A aký význam mu pripisovali v čase národného obrodenia? V sprievode historika Mgr. Erika Koncza z Historického ústavu SAV sa pozrieme na to\, ako sa predstavy o minulosti prepájali s týmto konkrétnym miestom\, ktoré podnecovalo záujem o históriu aj národnú identitu.   \nVstup zadarmo s rezerváciou cez GoOut.net.   \nBohatý sprievodný program sa bude už tradične odohrávať na námestí pred domom kultúry\, v kostole\, na záhrade kostola či na hrade Devín. Viac informácií o celom programe nájdete tu. \nOrganizátori a spoluorganizári: Cyrilo-metodská cesta\, MČ Devín\, Bratislavský kraj\, Slovenský dom Centrope\, Múzeum mesta Bratislava
URL:https://hraddevin.mmb.sk/podujatie/cyrilometodske-dobove-slavnosti-v-devine-komentovana-prehliadka/
LOCATION:Hrad Devín\, Muránska 10\, Bratislava\, Slovakia (Slovak Republic)
CATEGORIES:komentovaná prehliadka
ATTACH;FMTTYPE=image/jpeg:https://hraddevin.mmb.sk/wp-content/uploads/2025/06/DoboveSlavnosti_FBpost.jpg
END:VEVENT
END:VCALENDAR