BEGIN:VCALENDAR
VERSION:2.0
PRODID:-//Hrad Devín - ECPv6.15.18//NONSGML v1.0//EN
CALSCALE:GREGORIAN
METHOD:PUBLISH
X-WR-CALNAME:Hrad Devín
X-ORIGINAL-URL:https://hraddevin.mmb.sk
X-WR-CALDESC:Udalosti pre Hrad Devín
REFRESH-INTERVAL;VALUE=DURATION:PT1H
X-Robots-Tag:noindex
X-PUBLISHED-TTL:PT1H
BEGIN:VTIMEZONE
TZID:Europe/Bratislava
BEGIN:DAYLIGHT
TZOFFSETFROM:+0100
TZOFFSETTO:+0200
TZNAME:CEST
DTSTART:20240331T010000
END:DAYLIGHT
BEGIN:STANDARD
TZOFFSETFROM:+0200
TZOFFSETTO:+0100
TZNAME:CET
DTSTART:20241027T010000
END:STANDARD
BEGIN:DAYLIGHT
TZOFFSETFROM:+0100
TZOFFSETTO:+0200
TZNAME:CEST
DTSTART:20250330T010000
END:DAYLIGHT
BEGIN:STANDARD
TZOFFSETFROM:+0200
TZOFFSETTO:+0100
TZNAME:CET
DTSTART:20251026T010000
END:STANDARD
BEGIN:DAYLIGHT
TZOFFSETFROM:+0100
TZOFFSETTO:+0200
TZNAME:CEST
DTSTART:20260329T010000
END:DAYLIGHT
BEGIN:STANDARD
TZOFFSETFROM:+0200
TZOFFSETTO:+0100
TZNAME:CET
DTSTART:20261025T010000
END:STANDARD
END:VTIMEZONE
BEGIN:VEVENT
DTSTART;TZID=Europe/Bratislava:20250906T100000
DTEND;TZID=Europe/Bratislava:20250906T180000
DTSTAMP:20260424T232805
CREATED:20250825T105027Z
LAST-MODIFIED:20250904T051933Z
UID:9028-1757152800-1757181600@hraddevin.mmb.sk
SUMMARY:RYTIERI NA DEVÍNE  // historický festival  
DESCRIPTION:Hrad Devín opäť ožije čarom minulosti! V kulisách stredovekých múrov sa rozprestrie pestrofarebný program\, ktorý vás prenesie do čias palatínov\, landsknechtov a renesančných bálov.   \nPo otvorení brán vás privíta slávnostný ceremoniál. Neskôr sa hrad premení na tanečnú sieň – renesančné tance nám pripomenú krásu dvorského umenia i spletité ľudské povahy. Následne sa presunieme na bojiská 16. storočia\, kde sa pred vašimi očami zhmotní pestrý a búrlivý svet žoldnierov a ich družiek. Vrcholom bude veľkolepý uhorský rytiersky turnaj. Inšpirovaný udalosťami okolo Žitavského mieru\, predstaví postavy reálne zakorenené v dejinách a ponúkne napínavé jazdecké aj pešie súboje v duchu hesla česť\, sila a tradícia.   \nPo celý čas vás budú čakať aj stredoveké kratochvíle – lukostreľba\, vrhanie nožov\, jazda na drevenom aj živom koni\, zábavné hry pre deti\, stánky s remeslami\, občerstvením a atmosférou hodnou veľkého jarmoku.   \nVstupenky v predaji v pokladnici hradu Devín a online na webe hraddevin.mmb.sk.   \nHlavný organizátor: TOSTABUR (Tovarišstvo starých bojových umení a remesiel v Bratislave).
URL:https://hraddevin.mmb.sk/podujatie/rytieri-na-devine-zazitkove-podujatie-historicky-festival/
LOCATION:Hrad Devín\, Muránska 10\, Bratislava\, Slovakia (Slovak Republic)
CATEGORIES:historický festival,zážitkové podujatie
ATTACH;FMTTYPE=image/jpeg:https://hraddevin.mmb.sk/wp-content/uploads/2025/08/Tostabur.jpg
END:VEVENT
BEGIN:VEVENT
DTSTART;TZID=Europe/Bratislava:20250907T183000
DTEND;TZID=Europe/Bratislava:20250907T220000
DTSTAMP:20260424T232805
CREATED:20250904T045150Z
LAST-MODIFIED:20250904T091216Z
UID:9045-1757269800-1757282400@hraddevin.mmb.sk
SUMMARY:ZATMENIE MESIACA NA DEVÍNE // magický zážitok pod nočnou oblohou
DESCRIPTION:Zažite výnimočný večer pod hviezdami! V nedeľu 7. septembra vás srdečne pozývame na pozorovanie zatmenia Mesiaca na hrade Devín\, ktorý bude pri tejto príležitosti otvorený až do 22:00.  \nOd 18:30 sa môžete usadiť na lúke pred Garayovým palácom\, kde bude zatmenie krásne viditeľné voľným okom – bez potreby teleskopov\, v príjemnej atmosfére na dekách pod večernou oblohou.  \nZatmenie začne približne o 19:00\, svoj vrchol dosiahne o 20:11 a skončí okolo 22:00. Súčasťou programu bude aj krátky odborný výklad od členov Slovenského zväzu astronómov.  \nVstupné: 8 € dospelý / 4 € zľavnený (študent\, senior\, ZŤP).  \nVstupenky v predaji v pokladnici hradu Devín a online na webe hraddevin.mmb.sk.  \nV prípade nepriaznivého počasia sa podujatie neuskutoční.  
URL:https://hraddevin.mmb.sk/podujatie/zatmenie-mesiaca-na-devine-zazitkove-podujatie-pod-hviezdami/
LOCATION:Hrad Devín\, Muránska 10\, Bratislava\, Slovakia (Slovak Republic)
ATTACH;FMTTYPE=image/webp:https://hraddevin.mmb.sk/wp-content/uploads/2025/03/Nocna-obloha-nad-hradom-Devin-III.webp
ORGANIZER;CN="M%C3%BAzeum mesta Bratislavy":MAILTO:hrad.devin@mmb.sk
END:VEVENT
BEGIN:VEVENT
DTSTART;TZID=Europe/Bratislava:20250910T183000
DTEND;TZID=Europe/Bratislava:20250910T200000
DTSTAMP:20260424T232805
CREATED:20250825T115259Z
LAST-MODIFIED:20250825T133827Z
UID:9033-1757529000-1757534400@hraddevin.mmb.sk
SUMMARY:JOGA NA DEVÍNE  // zážitkové podujatie
DESCRIPTION:Zažite večer plný pokoja a vedomého pohybu priamo na hrade Devín. Počas vybraných letných termínov si návštevníci budú môcť oddýchnuť pri jemnom pohybe a krátkej meditácii. V sprievode pomalého „flow“ cvičenia uvoľníte telo aj myseľ – necháte stíchnuť myšlienky\, spomalíte dych a precítite prítomný okamih. Na hrade Devín si spoločne vychutnáme západ slnka\, prehĺbime dych a uvoľníme telo.   \nPartnerom podujatia je Yoga House.  \nVstupné: 8 €\, na mieste 10 €     \nVstupenky v predaji v pokladnici hradu Devín aj na webe vstupenky.mmb.sk.
URL:https://hraddevin.mmb.sk/podujatie/joga-na-devine-zazitkove-podujatie-4/
LOCATION:Hrad Devín\, Muránska 10\, Bratislava\, Slovakia (Slovak Republic)
CATEGORIES:lekcia jógy,zážitkové podujatie
ATTACH;FMTTYPE=image/jpeg:https://hraddevin.mmb.sk/wp-content/uploads/2025/06/Katka_Devin25.jpg
ORGANIZER;CN="M%C3%BAzeum mesta Bratislavy":MAILTO:hrad.devin@mmb.sk
END:VEVENT
BEGIN:VEVENT
DTSTART;TZID=Europe/Bratislava:20250911T193000
DTEND;TZID=Europe/Bratislava:20250911T220000
DTSTAMP:20260424T232805
CREATED:20250828T073715Z
LAST-MODIFIED:20250904T045355Z
UID:9037-1757619000-1757628000@hraddevin.mmb.sk
SUMMARY:KINO NA HRADE DEVÍN: BASTARD // filmové premietanie pod hviezdami
DESCRIPTION:Na záver letnej sezóny 2025 prináša MMB na hrad Devín filmový večer\, počas ktorého zažijú návštevníci a návštevníčky nočnú atmosféru hradu pri premietaní filmovej snímky:  \nBASTARD\,  Nikolaj Arcel\, Dánsko/ Nórsko\, 2023\, 127 min  \nBastard je strhujúca dráma zasadená do polovice 18. storočia\, ktorá rozpráva príbeh o dobývaní dánskych vresovísk\, o nespútanej prírode\, veľkých snoch a ešte väčších obetách. Je to príbeh o hrdom a nekompromisnom mužovi a o žene\, ktorá sa stane jeho spojenkyňou v boji proti zlu\, smrti a zatrateniu.  \nPodujatie je organizované v spolupráci s Film Europe.  \nVstupné: 8 €\, na mieste 10 €   \nVstupenky v predaji online na vstupenky.mmb.sk.  
URL:https://hraddevin.mmb.sk/podujatie/kino-na-hrade-devin-bastard-filmove-premietanie-zazitkove-podujatie/
LOCATION:Hrad Devín\, Muránska 10\, Bratislava\, Slovakia (Slovak Republic)
CATEGORIES:film,filmové premietanie,zážitkové podujatie
ATTACH;FMTTYPE=image/jpeg:https://hraddevin.mmb.sk/wp-content/uploads/2025/08/Bastard_film.jpg
ORGANIZER;CN="M%C3%BAzeum mesta Bratislavy":MAILTO:hrad.devin@mmb.sk
END:VEVENT
BEGIN:VEVENT
DTSTART;TZID=Europe/Bratislava:20250913T140000
DTEND;TZID=Europe/Bratislava:20250913T210000
DTSTAMP:20260424T232805
CREATED:20250904T050447Z
LAST-MODIFIED:20250904T050509Z
UID:9060-1757772000-1757797200@hraddevin.mmb.sk
SUMMARY:DEVÍN PRE VŠETKÝCH // inkluzívny komunitný festival
DESCRIPTION:Na hrade Devín sa uskutoční inkluzívny komunitný festival\, ktorý prepája ľudí všetkých vekov\, schopností a príbehov. Festival vznikol v spolupráci s občianskym združením Kolesá sa majú točiť – Wheels Should Be Rolling a nesie jasné posolstvo: Nejde o výnimky\, ale o to\, čo nás spája.  \nPodujatie odštartuje nenáročná cyklojazda okolo hradu – vhodná pre deti\, dospelých aj seniorov. K dispozícii bude strážené parkovanie bicyklov a profesionálny cykloservis v spolupráci s Cshop.  \nNa hlavnom pódiu sa stretnú dve inšpiratívne osobnosti: obľúbený spisovateľ Daniel Hevier a olympijský víťaz Matej Tóth\, ktorí predstavia svoj projekt Strážcovia pohybu – rozhýb telo\, rozhýb myseľ. O energiu a pohyb sa postarajú aj parkouristi z Big Street Project\, ktorí ukážu\, ako prekonať fyzické aj mentálne prekážky.  \nSilným momentom programu bude inkluzívna bubnovačka pod vedením lektora Tona Gutha – rytmus a muzikoterapia spoja svet počujúcich a nepočujúcich.  \nMúzeum mesta Bratislavy pripraví komentované prehliadky hradu a interaktívnu Escape Room hru\, ktorá preverí tímového ducha\, zvedavosť a chuť objavovať.  \nPo západe slnka sa hrad premení na tanečný parket. Houseový set DJ Kuba Kinga a koncerty bratislavských kapiel Space Cats a La3no Cubano rozprúdia atmosféru a prepoja publikum bez rozdielov.  \nVstupné: podľa bežného cenníka hradu Devín. \nPosledný vstup na hrad: 20.00 \nVstupenky sú dostupné v pokladnici hradu. 
URL:https://hraddevin.mmb.sk/podujatie/devin-pre-vsetkych-inkluzivny-komunitny-festival/
LOCATION:Hrad Devín\, Muránska 10\, Bratislava\, Slovakia (Slovak Republic)
CATEGORIES:inkluzívny komunitný festival,zážitkové podujatie
ATTACH;FMTTYPE=image/jpeg:https://hraddevin.mmb.sk/wp-content/uploads/2025/09/536271528_1348568943522179_8016777887639348346_n.jpg
ORGANIZER;CN="M%C3%BAzeum mesta Bratislavy":MAILTO:hrad.devin@mmb.sk
END:VEVENT
BEGIN:VEVENT
DTSTART;TZID=Europe/Bratislava:20250919T190000
DTEND;TZID=Europe/Bratislava:20250919T210000
DTSTAMP:20260424T232805
CREATED:20250904T075209Z
LAST-MODIFIED:20250916T090401Z
UID:9071-1758308400-1758315600@hraddevin.mmb.sk
SUMMARY:ODVÁŽNE PÁTRANIE: TAJOMSTVÁ NAPOLEONSKÝCH ČIAS // zážitkové podujatie
DESCRIPTION:Vyrazte s nami na dobrodružnú výpravu plnú pátrania\, hádaniek a odvážnych úloh! Tentoraz vás séria Odvážne pátranie zavedie na majestátny hrad Devín\, kde sa vydáme po stopách napoleonských vojsk\, ktoré kedysi prešli týmto historickým miestom. \nČakajú vás zábavné aj poučné stanovištia\, kde si deti spolu s rodičmi preveria svoje schopnosti\, bystrosť i odvahu. Spolu odhalíme: čo robili vojaci počas ťažení\, ako sa orientovali v teréne\, a čo sa stalo s hradom počas napoleonských výprav. \nOkrem zaujímavých úloh sa môžete tešiť aj na krásne výhľady a nevšedný zážitok z objavovania histórie. \nVstupné:\nMalá rodinná vstupenka (1 dospelý + 2 deti): 10 €\nVeľká rodinná vstupenka (2 dospelí + 3 deti): 15 € \nKapacita podujatia je obmedzená. \nVstupenky v predaji na vstupenky.mmb.sk.  
URL:https://hraddevin.mmb.sk/podujatie/odvazne-patranie-tajomstva-napoleonskych-cias-zazitkove-podujatie/
LOCATION:Hrad Devín\, Muránska 10\, Bratislava\, Slovakia (Slovak Republic)
CATEGORIES:rodinný program,zážitkové podujatie
ATTACH;FMTTYPE=image/jpeg:https://hraddevin.mmb.sk/wp-content/uploads/2025/09/Odvazne-patranie-na-hrade-Devin.jpg
ORGANIZER;CN="M%C3%BAzeum mesta Bratislavy":MAILTO:hrad.devin@mmb.sk
END:VEVENT
BEGIN:VEVENT
DTSTART;TZID=Europe/Bratislava:20250920T150000
DTEND;TZID=Europe/Bratislava:20250920T180000
DTSTAMP:20260424T232805
CREATED:20250904T051000Z
LAST-MODIFIED:20251027T130127Z
UID:9065-1758380400-1758391200@hraddevin.mmb.sk
SUMMARY:ŠARKANIÁDA NA DEVÍNE // rodinné podujatie pre malých aj veľkých // KITES TAKE TO THE SKIES OVER DEVÍN! // a family-friendly event for all ages
DESCRIPTION:Pozývame vás na podujatie plné farieb a pohybu – šarkany sa opäť rozletia nad Devínom. V príjemnom prostredí s výhľadom na sútok riek budú oblohu zdobiť desiatky šarkanov všetkých tvarov a veľkostí.  \nOkrem lietania vás čaká interaktívny rozprávkový program so žonglérskymi prvkami a výtvarný ateliér pre deti aj dospelých. Na mieste bude zabezpečené aj občerstvenie\, takže si môžete dať niečo pod zub a oddýchnuť si.  \nKaždý šarkan bude odmenený malou pozornosťou. Ak bude vlastnoručne vyrobený\, dostane ešte jednu navyše.  \nPodujatie organizujeme v spolupráci s Mestskou časťou Devín.   \nVstupné: Rodiny so šarkanom majú vstup zdarma (rodina = 2 dospelé osoby + dieťa). Pre ostatných platí vstupné podľa aktuálneho cenníka na hrade Devín.  \nPosledný vstup do hradného areálu o 17:30.  \nVstupenky v predaji v pokladnici hradu Devín.  \n  \nJoin Us for a Colorful and Active Event – Kites Take to the Skies Over Devín! We invite you to an event full of color and movement – kites will once again soar above Devín. In a pleasant setting with a view of the river confluence\, dozens of kites of all shapes and sizes will decorate the sky. \nIn addition to flying kites\, enjoy an interactive fairy-tale program with juggling elements and an art workshop for children and adults. Refreshments will also be available on site\, so you can grab a bite and relax. \nEvery kite will receive a small gift. Handmade kites will receive an extra reward! \nThis event is organized in cooperation with the Devín Municipal District. \nAdmission: Families with a kite enter for free (family = 2 adults + 1 child). All other visitors pay according to the current Devín Castle ticket prices. \nLast entry to the castle grounds is at 5:30 PM. \nTickets are available at the Devín Castle ticket office.
URL:https://hraddevin.mmb.sk/podujatie/sarkaniada-na-devine-rodinne-podujatie-pre-malych-aj-velkych/
LOCATION:Hrad Devín\, Muránska 10\, Bratislava\, Slovakia (Slovak Republic)
CATEGORIES:rodinný program,zážitkové podujatie
ATTACH;FMTTYPE=image/jpeg:https://hraddevin.mmb.sk/wp-content/uploads/2025/09/Sarkaniada_MMB-hrad-Devin.jpg
ORGANIZER;CN="M%C3%BAzeum mesta Bratislavy":MAILTO:hrad.devin@mmb.sk
END:VEVENT
END:VCALENDAR