BEGIN:VCALENDAR
VERSION:2.0
PRODID:-//Hrad Devín - ECPv6.15.18//NONSGML v1.0//EN
CALSCALE:GREGORIAN
METHOD:PUBLISH
X-WR-CALNAME:Hrad Devín
X-ORIGINAL-URL:https://hraddevin.mmb.sk
X-WR-CALDESC:Udalosti pre Hrad Devín
REFRESH-INTERVAL;VALUE=DURATION:PT1H
X-Robots-Tag:noindex
X-PUBLISHED-TTL:PT1H
BEGIN:VTIMEZONE
TZID:Europe/Bratislava
BEGIN:DAYLIGHT
TZOFFSETFROM:+0100
TZOFFSETTO:+0200
TZNAME:CEST
DTSTART:20240331T010000
END:DAYLIGHT
BEGIN:STANDARD
TZOFFSETFROM:+0200
TZOFFSETTO:+0100
TZNAME:CET
DTSTART:20241027T010000
END:STANDARD
BEGIN:DAYLIGHT
TZOFFSETFROM:+0100
TZOFFSETTO:+0200
TZNAME:CEST
DTSTART:20250330T010000
END:DAYLIGHT
BEGIN:STANDARD
TZOFFSETFROM:+0200
TZOFFSETTO:+0100
TZNAME:CET
DTSTART:20251026T010000
END:STANDARD
BEGIN:DAYLIGHT
TZOFFSETFROM:+0100
TZOFFSETTO:+0200
TZNAME:CEST
DTSTART:20260329T010000
END:DAYLIGHT
BEGIN:STANDARD
TZOFFSETFROM:+0200
TZOFFSETTO:+0100
TZNAME:CET
DTSTART:20261025T010000
END:STANDARD
END:VTIMEZONE
BEGIN:VEVENT
DTSTART;TZID=Europe/Bratislava:20251004T100000
DTEND;TZID=Europe/Bratislava:20251004T170000
DTSTAMP:20260424T220659
CREATED:20250904T051812Z
LAST-MODIFIED:20251003T120212Z
UID:9067-1759572000-1759597200@hraddevin.mmb.sk
SUMMARY:ZRUŠENÉ // RYTIERI NA DEVÍNE  // historický festival
DESCRIPTION:Mrzí nás to\, ale podujatie plánované na 4. 10. je zrušené z náhlych zdravotných dôvodov. Ďakujeme za pochopenie. \nPrvýkrát sa stretneme na hrade Devín aj v októbri – netradične\, no o to výnimočnejšie. Čaká vás príjemný jesenný deň plný histórie\, objavovania a rozprávkových príbehov v čarovnej atmosfére tohto jedinečného miesta.  Program prinesie orientálne tance so závojmi a šabľami\, napínavé vystúpenie Tajomstvo slovanského meča inšpirované archeologickým nálezom starého meča\, kúzelnícke okienko a veľkolepý Turnaj odvážnych\, na ktorom sa udatní rytieri na koňoch popasujú o srdce princeznej so zlým a nepozvaným rytierom. Deň zakončí záverečný ceremoniál plný šermu a tanca.   \nOkrem vystúpení vás čakajú aj zábavky pre deti\, jazda na koni (živom aj drevenom)\, stredoveká strelnica\, remeselné stánky a chutné občerstvenie. \nHlavný organizátor: TOSTABUR (Tovarišstvo starých bojových umení a remesiel v Bratislave). \nVstupné: základné: 12 €; zľavnené: 6 €; veľké rodinné (2 dospelí a 1 – 3 deti): 27 €; malé rodinné (1 dospelý a 1 – 2 deti): 15 €   \nVstupenky v predaji v pokladnici hradu Devín a online na webe hraddevin.mmb.sk. 
URL:https://hraddevin.mmb.sk/podujatie/rytieri-na-devine-historicky-festival/
LOCATION:Hrad Devín\, Muránska 10\, Bratislava\, Slovakia (Slovak Republic)
CATEGORIES:historický festival,zážitkové podujatie
ATTACH;FMTTYPE=image/jpeg:https://hraddevin.mmb.sk/wp-content/uploads/2025/06/505357505_1502059474391489_4151057967687295183_n.jpg
END:VEVENT
BEGIN:VEVENT
DTSTART;TZID=Europe/Bratislava:20251010T183000
DTEND;TZID=Europe/Bratislava:20251010T200000
DTSTAMP:20260424T220659
CREATED:20250908T081704Z
LAST-MODIFIED:20251010T082308Z
UID:9080-1760121000-1760126400@hraddevin.mmb.sk
SUMMARY:NOČNÁ PRECHÁDZKA HISTÓRIOU HRADU DEVÍN  // komentovaná prehliadka
DESCRIPTION:NOČNÁ PRECHÁDZKA HISTÓRIOU HRADU DEVÍN   \nVstúpte za hradby hradu Devín po zotmení a objavte jeho príbehy v atmosfére noci. Komentovanou prehliadkou vás prevedie správkyňa hradu Petra Palíková Kohútová\, ktorá vám priblíži históriu\, povesti a odhalí aj menej známe zákutia tohto jedinečného miesta.     \nNezabudnite si so sebou priniesť baterky.   \nVstupné: základné 5 € \, zľavnené 3 €  \nKapacita: 30 osôb   \nVstupenky v predaji v pokladnici hradu Devín a online na webe vstupenky.mmb.sk.   \nV prípade nepriaznivého počasia sa podujatie ruší.  
URL:https://hraddevin.mmb.sk/podujatie/nocna-prechadzka-historiou-hradu-devin-komentovana-prehliadka/
LOCATION:Hrad Devín\, Muránska 10\, Bratislava\, Slovakia (Slovak Republic)
CATEGORIES:prednáška,zážitkové podujatie
ATTACH;FMTTYPE=image/jpeg:https://hraddevin.mmb.sk/wp-content/uploads/2025/09/2509_37_Nocna-prechadzka-historiou-hradu-Devin_Komentovana-prehliadka_1-03.jpg
ORGANIZER;CN="M%C3%BAzeum mesta Bratislavy":MAILTO:hrad.devin@mmb.sk
END:VEVENT
BEGIN:VEVENT
DTSTART;TZID=Europe/Bratislava:20251018T160000
DTEND;TZID=Europe/Bratislava:20251018T193000
DTSTAMP:20260424T220659
CREATED:20250908T082029Z
LAST-MODIFIED:20251027T125732Z
UID:9082-1760803200-1760815800@hraddevin.mmb.sk
SUMMARY:LAMPIÓNOVÝ SPRIEVOD NA HRADE DEVÍN  // LANTERN PARADE AT DEVÍN CASTLE
DESCRIPTION:Zažite magický večer na hrade Devín\, kde sa historické múry rozžiaria stovkami svetiel. Čaká vás podujatie plné radosti\, hravej atmosféry a pestrého programu pre celú rodinu. Prineste si vlastný lampión a staňte sa súčasťou svetelného sprievodu\, ktorý oživí toto výnimočné miesto.   \nTvorivé a zábavné aktivity pre deti budú pre vás pripravené od 16.30 hod. \nLampiónový sprievod sa začne o 19.00 hod.   \nVstupné:  \n– bez lampiónu: 5 €  \n– zvýhodnené vstupné (1 dospelý + 1 dieťa + 1 lampión): 2 €   \nVstupenky sú v predaji v pokladnici hradu Devín.   \nExperience a Magical Evening at Devín Castle. Join us for a magical evening at Devín Castle\, where the historic walls will glow with hundreds of lights. Enjoy a festive event full of joy\, playful atmosphere\, and a diverse program for the whole family. Bring your own lantern and become part of a luminous procession that will bring this extraordinary place to life. \nCreative and fun activities for children start at 4:30 PM.The lantern procession begins at 7:00 PM. \nAdmission:– Without a lantern: €5– Special family ticket (1 adult + 1 child + 1 lantern): €2 \nTickets are available at the Devín Castle ticket office.
URL:https://hraddevin.mmb.sk/podujatie/lampionovy-sprievod-na-hrade-devin-zazitkove-podujatie/
LOCATION:Hrad Devín\, Muránska 10\, Bratislava\, Slovakia (Slovak Republic)
CATEGORIES:rodinný program,zážitkové podujatie
ATTACH;FMTTYPE=image/jpeg:https://hraddevin.mmb.sk/wp-content/uploads/2024/11/hrad-Devin_foto-MMB-Katarina-Selecka.jpg
ORGANIZER;CN="M%C3%BAzeum mesta Bratislavy":MAILTO:hrad.devin@mmb.sk
END:VEVENT
END:VCALENDAR