BEGIN:VCALENDAR
VERSION:2.0
PRODID:-//Hrad Devín - ECPv6.15.18//NONSGML v1.0//EN
CALSCALE:GREGORIAN
METHOD:PUBLISH
X-ORIGINAL-URL:https://hraddevin.mmb.sk
X-WR-CALDESC:Udalosti pre Hrad Devín
REFRESH-INTERVAL;VALUE=DURATION:PT1H
X-Robots-Tag:noindex
X-PUBLISHED-TTL:PT1H
BEGIN:VTIMEZONE
TZID:Europe/Bratislava
BEGIN:DAYLIGHT
TZOFFSETFROM:+0100
TZOFFSETTO:+0200
TZNAME:CEST
DTSTART:20250330T010000
END:DAYLIGHT
BEGIN:STANDARD
TZOFFSETFROM:+0200
TZOFFSETTO:+0100
TZNAME:CET
DTSTART:20251026T010000
END:STANDARD
BEGIN:DAYLIGHT
TZOFFSETFROM:+0100
TZOFFSETTO:+0200
TZNAME:CEST
DTSTART:20260329T010000
END:DAYLIGHT
BEGIN:STANDARD
TZOFFSETFROM:+0200
TZOFFSETTO:+0100
TZNAME:CET
DTSTART:20261025T010000
END:STANDARD
BEGIN:DAYLIGHT
TZOFFSETFROM:+0100
TZOFFSETTO:+0200
TZNAME:CEST
DTSTART:20270328T010000
END:DAYLIGHT
BEGIN:STANDARD
TZOFFSETFROM:+0200
TZOFFSETTO:+0100
TZNAME:CET
DTSTART:20271031T010000
END:STANDARD
END:VTIMEZONE
BEGIN:VEVENT
DTSTART;TZID=Europe/Bratislava:20260124T153000
DTEND;TZID=Europe/Bratislava:20260124T170000
DTSTAMP:20260424T174743
CREATED:20260122T152523Z
LAST-MODIFIED:20260122T153420Z
UID:9320-1769268600-1769274000@hraddevin.mmb.sk
SUMMARY:ZA HRADBAMI DEVÍNA // komentovaná prehliadka
DESCRIPTION:Už tradične vstúpime do nového roka na hrade Devín komentovanou prehliadkou. Areálom hradu vás prevedie jeho správkyňa Petra Palíková Kohútová\, ktorá poodhalí zákulisie správy hradu a predstaví plány na sezónu 2026 – od aktuálnych aktivít až po pripravované novinky. \n Na zahriatie bude pripravený horúci nápoj. Pozývame vás stráviť sobotný zimný podvečer v jedinečnej atmosfére hradu Devín.  \nVstupné zľavnený: 2\,50 € \nVstupné dospelý: 5\,00 € \nVstupenky v predaji na pokladnici hradu Devín alebo online na mmb.sk. 
URL:https://hraddevin.mmb.sk/podujatie/za-hradbami-devina-komentovana-prehliadka/
LOCATION:Hrad Devín\, Muránska 10\, Bratislava\, Slovakia (Slovak Republic)
CATEGORIES:komentovaná prechádzka,komentovaná prehliadka,zážitkové podujatie
ATTACH;FMTTYPE=image/jpeg:https://hraddevin.mmb.sk/wp-content/uploads/2025/03/Devin_Dotyk-dejin.jpg
ORGANIZER;CN="M%C3%BAzeum mesta Bratislavy":MAILTO:hrad.devin@mmb.sk
END:VEVENT
END:VCALENDAR